BEGIN:VCALENDAR
VERSION:2.0
PRODID:-//Northwest Church - ECPv6.15.20//NONSGML v1.0//EN
CALSCALE:GREGORIAN
METHOD:PUBLISH
X-WR-CALNAME:Northwest Church
X-ORIGINAL-URL:https://nwc.org
X-WR-CALDESC:Events for Northwest Church
REFRESH-INTERVAL;VALUE=DURATION:PT1H
X-Robots-Tag:noindex
X-PUBLISHED-TTL:PT1H
BEGIN:VTIMEZONE
TZID:UTC
BEGIN:STANDARD
TZOFFSETFROM:+0000
TZOFFSETTO:+0000
TZNAME:UTC
DTSTART:20250101T000000
END:STANDARD
END:VTIMEZONE
BEGIN:VEVENT
DTSTART;TZID=UTC:20260327T190000
DTEND;TZID=UTC:20260327T190000
DTSTAMP:20260425T124909
CREATED:20260127T185325Z
LAST-MODIFIED:20260128T032402Z
UID:10004854-1774638000-1774638000@nwc.org
SUMMARY:Spring Fest Gospel Concert
DESCRIPTION:
URL:https://nwc.org/event/spring-fest-gospel-concert/
LOCATION:Northwest Church\, 5415 N West Ave\, Fresno\, California\, 92711\, United States
CATEGORIES:Primetimers
END:VEVENT
BEGIN:VEVENT
DTSTART;TZID=UTC:20260329T090000
DTEND;TZID=UTC:20260329T090000
DTSTAMP:20260425T124909
CREATED:20260128T031126Z
LAST-MODIFIED:20260128T031126Z
UID:10005056-1774774800-1774774800@nwc.org
SUMMARY:9:00am Worship Service
DESCRIPTION:
URL:https://nwc.org/event/900am-worship-service-9/
CATEGORIES:Worship
END:VEVENT
BEGIN:VEVENT
DTSTART;TZID=UTC:20260329T093000
DTEND;TZID=UTC:20260329T093000
DTSTAMP:20260425T124909
CREATED:20260127T185327Z
LAST-MODIFIED:20260128T031936Z
UID:10004855-1774776600-1774776600@nwc.org
SUMMARY:Encore
DESCRIPTION:
URL:https://nwc.org/event/encore-9/
LOCATION:Northwest Church\, 5415 N West Ave\, Fresno\, California\, 92711\, United States
CATEGORIES:Seniors
END:VEVENT
BEGIN:VEVENT
DTSTART;TZID=UTC:20260329T103000
DTEND;TZID=UTC:20260329T103000
DTSTAMP:20260425T124909
CREATED:20240506T203918Z
LAST-MODIFIED:20260128T032607Z
UID:10000425-1774780200-1774780200@nwc.org
SUMMARY:The Word Class
DESCRIPTION:
URL:https://nwc.org/event/the-word-class-118/
LOCATION:Northwest Church\, 5415 N West Ave\, Fresno\, California\, 92711\, United States
CATEGORIES:Life Groups
END:VEVENT
BEGIN:VEVENT
DTSTART;TZID=UTC:20260329T110000
DTEND;TZID=UTC:20260329T110000
DTSTAMP:20260425T124909
CREATED:20260127T185331Z
LAST-MODIFIED:20260128T032422Z
UID:10004856-1774782000-1774782000@nwc.org
SUMMARY:Students Ministry Youth Service
DESCRIPTION:
URL:https://nwc.org/event/students-ministry-youth-service-9/
LOCATION:Northwest Church\, 5415 N West Ave\, Fresno\, California\, 92711\, United States
CATEGORIES:High School
END:VEVENT
BEGIN:VEVENT
DTSTART;TZID=UTC:20260329T110000
DTEND;TZID=UTC:20260329T110000
DTSTAMP:20260425T124909
CREATED:20260128T031721Z
LAST-MODIFIED:20260128T031721Z
UID:10005108-1774782000-1774782000@nwc.org
SUMMARY:11:00am Worship Service
DESCRIPTION:
URL:https://nwc.org/event/1100am-worship-service-9/
CATEGORIES:Worship
END:VEVENT
BEGIN:VEVENT
DTSTART;TZID=UTC:20260330T180000
DTEND;TZID=UTC:20260330T200000
DTSTAMP:20260425T124909
CREATED:20260128T034723Z
LAST-MODIFIED:20260128T035306Z
UID:10005187-1774893600-1774900800@nwc.org
SUMMARY:Grief Share
DESCRIPTION:
URL:https://nwc.org/event/grief-share-16/2026-03-30/
END:VEVENT
BEGIN:VEVENT
DTSTART;TZID=UTC:20260331T180000
DTEND;TZID=UTC:20260331T180000
DTSTAMP:20260425T124909
CREATED:20260127T185332Z
LAST-MODIFIED:20260128T032338Z
UID:10004857-1774980000-1774980000@nwc.org
SUMMARY:Men's Monthly Gathering
DESCRIPTION:
URL:https://nwc.org/event/mens-monthly-gathering-15/
LOCATION:Northwest Church\, 5415 N West Ave\, Fresno\, California\, 92711\, United States
CATEGORIES:Men
END:VEVENT
BEGIN:VEVENT
DTSTART;TZID=UTC:20260331T180000
DTEND;TZID=UTC:20260331T200000
DTSTAMP:20260425T124909
CREATED:20260128T035003Z
LAST-MODIFIED:20260128T035411Z
UID:10005202-1774980000-1774987200@nwc.org
SUMMARY:Divorce Care
DESCRIPTION:
URL:https://nwc.org/event/divorce-care-14/2026-03-31/
END:VEVENT
BEGIN:VEVENT
DTSTART;TZID=UTC:20260401T180000
DTEND;TZID=UTC:20260401T180000
DTSTAMP:20260425T124909
CREATED:20260127T185333Z
LAST-MODIFIED:20260128T032843Z
UID:10004858-1775066400-1775066400@nwc.org
SUMMARY:Youth Wednesday Service
DESCRIPTION:
URL:https://nwc.org/event/youth-wednesday-service-10/
LOCATION:Northwest Church\, 5415 N West Ave\, Fresno\, California\, 92711\, United States
CATEGORIES:High School
END:VEVENT
BEGIN:VEVENT
DTSTART;TZID=UTC:20260402T180000
DTEND;TZID=UTC:20260402T180000
DTSTAMP:20260425T124909
CREATED:20260127T185333Z
LAST-MODIFIED:20260128T032728Z
UID:10004859-1775152800-1775152800@nwc.org
SUMMARY:Young Adults
DESCRIPTION:
URL:https://nwc.org/event/young-adults-11/
LOCATION:Family Room\, 5415 N West Ave\, Fresno\, California\, 93711\, United States
CATEGORIES:Young Adults
END:VEVENT
BEGIN:VEVENT
DTSTART;TZID=UTC:20260405T090000
DTEND;TZID=UTC:20260405T090000
DTSTAMP:20260425T124909
CREATED:20260128T031134Z
LAST-MODIFIED:20260128T031134Z
UID:10005057-1775379600-1775379600@nwc.org
SUMMARY:9:00am Worship Service
DESCRIPTION:
URL:https://nwc.org/event/900am-worship-service-10/
CATEGORIES:Worship
END:VEVENT
BEGIN:VEVENT
DTSTART;TZID=UTC:20260405T093000
DTEND;TZID=UTC:20260405T093000
DTSTAMP:20260425T124909
CREATED:20260127T185646Z
LAST-MODIFIED:20260128T031943Z
UID:10004860-1775381400-1775381400@nwc.org
SUMMARY:Encore
DESCRIPTION:
URL:https://nwc.org/event/encore-10/
LOCATION:Northwest Church\, 5415 N West Ave\, Fresno\, California\, 92711\, United States
CATEGORIES:Seniors
END:VEVENT
BEGIN:VEVENT
DTSTART;TZID=UTC:20260405T103000
DTEND;TZID=UTC:20260405T103000
DTSTAMP:20260425T124909
CREATED:20240506T203933Z
LAST-MODIFIED:20260128T032607Z
UID:10000428-1775385000-1775385000@nwc.org
SUMMARY:The Word Class
DESCRIPTION:
URL:https://nwc.org/event/the-word-class-119/
LOCATION:Northwest Church\, 5415 N West Ave\, Fresno\, California\, 92711\, United States
CATEGORIES:Life Groups
END:VEVENT
BEGIN:VEVENT
DTSTART;TZID=UTC:20260405T110000
DTEND;TZID=UTC:20260405T110000
DTSTAMP:20260425T124909
CREATED:20260127T185647Z
LAST-MODIFIED:20260128T032424Z
UID:10004861-1775386800-1775386800@nwc.org
SUMMARY:Students Ministry Youth Service
DESCRIPTION:
URL:https://nwc.org/event/students-ministry-youth-service-10/
LOCATION:Northwest Church\, 5415 N West Ave\, Fresno\, California\, 92711\, United States
CATEGORIES:High School
END:VEVENT
BEGIN:VEVENT
DTSTART;TZID=UTC:20260405T110000
DTEND;TZID=UTC:20260405T110000
DTSTAMP:20260425T124909
CREATED:20260128T031721Z
LAST-MODIFIED:20260128T031721Z
UID:10005109-1775386800-1775386800@nwc.org
SUMMARY:11:00am Worship Service
DESCRIPTION:
URL:https://nwc.org/event/1100am-worship-service-10/
CATEGORIES:Worship
END:VEVENT
BEGIN:VEVENT
DTSTART;TZID=UTC:20260406T180000
DTEND;TZID=UTC:20260406T200000
DTSTAMP:20260425T124909
CREATED:20260128T034723Z
LAST-MODIFIED:20260128T035306Z
UID:10005188-1775498400-1775505600@nwc.org
SUMMARY:Grief Share
DESCRIPTION:
URL:https://nwc.org/event/grief-share-16/2026-04-06/
END:VEVENT
BEGIN:VEVENT
DTSTART;TZID=UTC:20260407T180000
DTEND;TZID=UTC:20260407T200000
DTSTAMP:20260425T124909
CREATED:20260128T035003Z
LAST-MODIFIED:20260128T035411Z
UID:10005203-1775584800-1775592000@nwc.org
SUMMARY:Divorce Care
DESCRIPTION:
URL:https://nwc.org/event/divorce-care-14/2026-04-07/
END:VEVENT
BEGIN:VEVENT
DTSTART;TZID=UTC:20260408T180000
DTEND;TZID=UTC:20260408T180000
DTSTAMP:20260425T124909
CREATED:20260127T185648Z
LAST-MODIFIED:20260128T032843Z
UID:10004862-1775671200-1775671200@nwc.org
SUMMARY:Youth Wednesday Service
DESCRIPTION:
URL:https://nwc.org/event/youth-wednesday-service-11/
LOCATION:Northwest Church\, 5415 N West Ave\, Fresno\, California\, 92711\, United States
CATEGORIES:High School
END:VEVENT
BEGIN:VEVENT
DTSTART;TZID=UTC:20260409T180000
DTEND;TZID=UTC:20260409T180000
DTSTAMP:20260425T124909
CREATED:20260127T185701Z
LAST-MODIFIED:20260128T032731Z
UID:10004863-1775757600-1775757600@nwc.org
SUMMARY:Young Adults
DESCRIPTION:
URL:https://nwc.org/event/young-adults-12/
LOCATION:Family Room\, 5415 N West Ave\, Fresno\, California\, 93711\, United States
CATEGORIES:Young Adults
END:VEVENT
BEGIN:VEVENT
DTSTART;TZID=UTC:20260412T090000
DTEND;TZID=UTC:20260412T090000
DTSTAMP:20260425T124909
CREATED:20260128T031136Z
LAST-MODIFIED:20260128T031136Z
UID:10005058-1775984400-1775984400@nwc.org
SUMMARY:9:00am Worship Service
DESCRIPTION:
URL:https://nwc.org/event/900am-worship-service-11/
CATEGORIES:Worship
END:VEVENT
BEGIN:VEVENT
DTSTART;TZID=UTC:20260412T093000
DTEND;TZID=UTC:20260412T093000
DTSTAMP:20260425T124909
CREATED:20260127T185704Z
LAST-MODIFIED:20260128T031945Z
UID:10004864-1775986200-1775986200@nwc.org
SUMMARY:Encore
DESCRIPTION:
URL:https://nwc.org/event/encore-11/
LOCATION:Northwest Church\, 5415 N West Ave\, Fresno\, California\, 92711\, United States
CATEGORIES:Seniors
END:VEVENT
BEGIN:VEVENT
DTSTART;TZID=UTC:20260412T103000
DTEND;TZID=UTC:20260412T103000
DTSTAMP:20260425T124909
CREATED:20240506T203933Z
LAST-MODIFIED:20260128T032608Z
UID:10000430-1775989800-1775989800@nwc.org
SUMMARY:The Word Class
DESCRIPTION:
URL:https://nwc.org/event/the-word-class-120/
LOCATION:Northwest Church\, 5415 N West Ave\, Fresno\, California\, 92711\, United States
CATEGORIES:Life Groups
END:VEVENT
BEGIN:VEVENT
DTSTART;TZID=UTC:20260412T110000
DTEND;TZID=UTC:20260412T110000
DTSTAMP:20260425T124909
CREATED:20260127T185706Z
LAST-MODIFIED:20260128T032426Z
UID:10004865-1775991600-1775991600@nwc.org
SUMMARY:Students Ministry Youth Service
DESCRIPTION:
URL:https://nwc.org/event/students-ministry-youth-service-11/
LOCATION:Northwest Church\, 5415 N West Ave\, Fresno\, California\, 92711\, United States
CATEGORIES:High School
END:VEVENT
BEGIN:VEVENT
DTSTART;TZID=UTC:20260412T110000
DTEND;TZID=UTC:20260412T110000
DTSTAMP:20260425T124909
CREATED:20260128T031722Z
LAST-MODIFIED:20260128T031722Z
UID:10005110-1775991600-1775991600@nwc.org
SUMMARY:11:00am Worship Service
DESCRIPTION:
URL:https://nwc.org/event/1100am-worship-service-11/
CATEGORIES:Worship
END:VEVENT
BEGIN:VEVENT
DTSTART;TZID=UTC:20260413T180000
DTEND;TZID=UTC:20260413T200000
DTSTAMP:20260425T124909
CREATED:20260128T034723Z
LAST-MODIFIED:20260128T035306Z
UID:10005189-1776103200-1776110400@nwc.org
SUMMARY:Grief Share
DESCRIPTION:
URL:https://nwc.org/event/grief-share-16/2026-04-13/
END:VEVENT
BEGIN:VEVENT
DTSTART;TZID=UTC:20260414T180000
DTEND;TZID=UTC:20260414T200000
DTSTAMP:20260425T124909
CREATED:20260128T035003Z
LAST-MODIFIED:20260128T035411Z
UID:10005204-1776189600-1776196800@nwc.org
SUMMARY:Divorce Care
DESCRIPTION:
URL:https://nwc.org/event/divorce-care-14/2026-04-14/
END:VEVENT
BEGIN:VEVENT
DTSTART;TZID=UTC:20260415T180000
DTEND;TZID=UTC:20260415T180000
DTSTAMP:20260425T124909
CREATED:20260127T185722Z
LAST-MODIFIED:20260128T032849Z
UID:10004866-1776276000-1776276000@nwc.org
SUMMARY:Youth Wednesday Service
DESCRIPTION:
URL:https://nwc.org/event/youth-wednesday-service-12/
LOCATION:Northwest Church\, 5415 N West Ave\, Fresno\, California\, 92711\, United States
CATEGORIES:High School
END:VEVENT
BEGIN:VEVENT
DTSTART;TZID=UTC:20260416T180000
DTEND;TZID=UTC:20260416T180000
DTSTAMP:20260425T124909
CREATED:20260127T185725Z
LAST-MODIFIED:20260128T032733Z
UID:10004867-1776362400-1776362400@nwc.org
SUMMARY:Young Adults
DESCRIPTION:
URL:https://nwc.org/event/young-adults-13/
LOCATION:Family Room\, 5415 N West Ave\, Fresno\, California\, 93711\, United States
CATEGORIES:Young Adults
END:VEVENT
BEGIN:VEVENT
DTSTART;TZID=UTC:20260419T090000
DTEND;TZID=UTC:20260419T090000
DTSTAMP:20260425T124909
CREATED:20260128T031136Z
LAST-MODIFIED:20260128T031136Z
UID:10005059-1776589200-1776589200@nwc.org
SUMMARY:9:00am Worship Service
DESCRIPTION:
URL:https://nwc.org/event/900am-worship-service-12/
CATEGORIES:Worship
END:VEVENT
END:VCALENDAR