BEGIN:VCALENDAR
VERSION:2.0
PRODID:-//Northwest Church - ECPv6.15.20//NONSGML v1.0//EN
CALSCALE:GREGORIAN
METHOD:PUBLISH
X-WR-CALNAME:Northwest Church
X-ORIGINAL-URL:https://nwc.org
X-WR-CALDESC:Events for Northwest Church
REFRESH-INTERVAL;VALUE=DURATION:PT1H
X-Robots-Tag:noindex
X-PUBLISHED-TTL:PT1H
BEGIN:VTIMEZONE
TZID:UTC
BEGIN:STANDARD
TZOFFSETFROM:+0000
TZOFFSETTO:+0000
TZNAME:UTC
DTSTART:20250101T000000
END:STANDARD
END:VTIMEZONE
BEGIN:VEVENT
DTSTART;TZID=UTC:20261125T180000
DTEND;TZID=UTC:20261125T180000
DTSTAMP:20260425T113321
CREATED:20260127T191806Z
LAST-MODIFIED:20260128T032932Z
UID:10005011-1795629600-1795629600@nwc.org
SUMMARY:Youth Wednesday Service
DESCRIPTION:
URL:https://nwc.org/event/youth-wednesday-service-44/
LOCATION:Northwest Church\, 5415 N West Ave\, Fresno\, California\, 92711\, United States
CATEGORIES:High School
END:VEVENT
BEGIN:VEVENT
DTSTART;TZID=UTC:20261126T180000
DTEND;TZID=UTC:20261126T180000
DTSTAMP:20260425T113321
CREATED:20260127T191809Z
LAST-MODIFIED:20260128T032811Z
UID:10005012-1795716000-1795716000@nwc.org
SUMMARY:Young Adults
DESCRIPTION:
URL:https://nwc.org/event/young-adults-45/
LOCATION:Family Room\, 5415 N West Ave\, Fresno\, California\, 93711\, United States
CATEGORIES:Young Adults
END:VEVENT
BEGIN:VEVENT
DTSTART;TZID=UTC:20261129T090000
DTEND;TZID=UTC:20261129T090000
DTSTAMP:20260425T113321
CREATED:20260128T031622Z
LAST-MODIFIED:20260128T031622Z
UID:10005091-1795942800-1795942800@nwc.org
SUMMARY:9:00am Worship Service
DESCRIPTION:
URL:https://nwc.org/event/900am-worship-service-44/
CATEGORIES:Worship
END:VEVENT
BEGIN:VEVENT
DTSTART;TZID=UTC:20261129T093000
DTEND;TZID=UTC:20261129T093000
DTSTAMP:20260425T113321
CREATED:20260127T191810Z
LAST-MODIFIED:20260128T032242Z
UID:10005013-1795944600-1795944600@nwc.org
SUMMARY:Encore
DESCRIPTION:
URL:https://nwc.org/event/encore-44/
LOCATION:Northwest Church\, 5415 N West Ave\, Fresno\, California\, 92711\, United States
CATEGORIES:Seniors
END:VEVENT
BEGIN:VEVENT
DTSTART;TZID=UTC:20261129T103000
DTEND;TZID=UTC:20261129T103000
DTSTAMP:20260425T113321
CREATED:20240909T182155Z
LAST-MODIFIED:20260128T032702Z
UID:10002287-1795948200-1795948200@nwc.org
SUMMARY:The Word Class
DESCRIPTION:
URL:https://nwc.org/event/the-word-class-153/
LOCATION:Northwest Church\, 5415 N West Ave\, Fresno\, California\, 92711\, United States
CATEGORIES:Life Groups
END:VEVENT
BEGIN:VEVENT
DTSTART;TZID=UTC:20261129T110000
DTEND;TZID=UTC:20261129T110000
DTSTAMP:20260425T113321
CREATED:20260127T191820Z
LAST-MODIFIED:20260128T032527Z
UID:10005014-1795950000-1795950000@nwc.org
SUMMARY:Students Ministry Youth Service
DESCRIPTION:
URL:https://nwc.org/event/students-ministry-youth-service-44/
LOCATION:Northwest Church\, 5415 N West Ave\, Fresno\, California\, 92711\, United States
CATEGORIES:High School
END:VEVENT
BEGIN:VEVENT
DTSTART;TZID=UTC:20261129T110000
DTEND;TZID=UTC:20261129T110000
DTSTAMP:20260425T113321
CREATED:20260128T031858Z
LAST-MODIFIED:20260128T031858Z
UID:10005143-1795950000-1795950000@nwc.org
SUMMARY:11:00am Worship Service
DESCRIPTION:
URL:https://nwc.org/event/1100am-worship-service-44/
CATEGORIES:Worship
END:VEVENT
BEGIN:VEVENT
DTSTART;TZID=UTC:20261202T180000
DTEND;TZID=UTC:20261202T180000
DTSTAMP:20260425T113321
CREATED:20260127T191822Z
LAST-MODIFIED:20260128T032933Z
UID:10005015-1796234400-1796234400@nwc.org
SUMMARY:Youth Wednesday Service
DESCRIPTION:
URL:https://nwc.org/event/youth-wednesday-service-45/
LOCATION:Northwest Church\, 5415 N West Ave\, Fresno\, California\, 92711\, United States
CATEGORIES:High School
END:VEVENT
BEGIN:VEVENT
DTSTART;TZID=UTC:20261203T180000
DTEND;TZID=UTC:20261203T180000
DTSTAMP:20260425T113321
CREATED:20260127T191823Z
LAST-MODIFIED:20260128T032812Z
UID:10005016-1796320800-1796320800@nwc.org
SUMMARY:Young Adults
DESCRIPTION:
URL:https://nwc.org/event/young-adults-46/
LOCATION:Family Room\, 5415 N West Ave\, Fresno\, California\, 93711\, United States
CATEGORIES:Young Adults
END:VEVENT
BEGIN:VEVENT
DTSTART;TZID=UTC:20261206T090000
DTEND;TZID=UTC:20261206T090000
DTSTAMP:20260425T113321
CREATED:20260128T031634Z
LAST-MODIFIED:20260128T031634Z
UID:10005092-1796547600-1796547600@nwc.org
SUMMARY:9:00am Worship Service
DESCRIPTION:
URL:https://nwc.org/event/900am-worship-service-45/
CATEGORIES:Worship
END:VEVENT
BEGIN:VEVENT
DTSTART;TZID=UTC:20261206T093000
DTEND;TZID=UTC:20261206T093000
DTSTAMP:20260425T113321
CREATED:20260127T191824Z
LAST-MODIFIED:20260128T032258Z
UID:10005017-1796549400-1796549400@nwc.org
SUMMARY:Encore
DESCRIPTION:
URL:https://nwc.org/event/encore-45/
LOCATION:Northwest Church\, 5415 N West Ave\, Fresno\, California\, 92711\, United States
CATEGORIES:Seniors
END:VEVENT
BEGIN:VEVENT
DTSTART;TZID=UTC:20261206T103000
DTEND;TZID=UTC:20261206T103000
DTSTAMP:20260425T113321
CREATED:20240909T182226Z
LAST-MODIFIED:20260128T032703Z
UID:10002289-1796553000-1796553000@nwc.org
SUMMARY:The Word Class
DESCRIPTION:
URL:https://nwc.org/event/the-word-class-154/
LOCATION:Northwest Church\, 5415 N West Ave\, Fresno\, California\, 92711\, United States
CATEGORIES:Life Groups
END:VEVENT
BEGIN:VEVENT
DTSTART;TZID=UTC:20261206T110000
DTEND;TZID=UTC:20261206T110000
DTSTAMP:20260425T113321
CREATED:20260127T191832Z
LAST-MODIFIED:20260128T032532Z
UID:10005018-1796554800-1796554800@nwc.org
SUMMARY:Students Ministry Youth Service
DESCRIPTION:
URL:https://nwc.org/event/students-ministry-youth-service-45/
LOCATION:Northwest Church\, 5415 N West Ave\, Fresno\, California\, 92711\, United States
CATEGORIES:High School
END:VEVENT
BEGIN:VEVENT
DTSTART;TZID=UTC:20261206T110000
DTEND;TZID=UTC:20261206T110000
DTSTAMP:20260425T113321
CREATED:20260128T031859Z
LAST-MODIFIED:20260128T031859Z
UID:10005144-1796554800-1796554800@nwc.org
SUMMARY:11:00am Worship Service
DESCRIPTION:
URL:https://nwc.org/event/1100am-worship-service-45/
CATEGORIES:Worship
END:VEVENT
BEGIN:VEVENT
DTSTART;TZID=UTC:20261209T180000
DTEND;TZID=UTC:20261209T180000
DTSTAMP:20260425T113321
CREATED:20260127T191833Z
LAST-MODIFIED:20260128T032933Z
UID:10005019-1796839200-1796839200@nwc.org
SUMMARY:Youth Wednesday Service
DESCRIPTION:
URL:https://nwc.org/event/youth-wednesday-service-46/
LOCATION:Northwest Church\, 5415 N West Ave\, Fresno\, California\, 92711\, United States
CATEGORIES:High School
END:VEVENT
BEGIN:VEVENT
DTSTART;TZID=UTC:20261210T180000
DTEND;TZID=UTC:20261210T180000
DTSTAMP:20260425T113321
CREATED:20260127T191834Z
LAST-MODIFIED:20260128T032815Z
UID:10005020-1796925600-1796925600@nwc.org
SUMMARY:Young Adults
DESCRIPTION:
URL:https://nwc.org/event/young-adults-47/
LOCATION:Family Room\, 5415 N West Ave\, Fresno\, California\, 93711\, United States
CATEGORIES:Young Adults
END:VEVENT
BEGIN:VEVENT
DTSTART;TZID=UTC:20261213T090000
DTEND;TZID=UTC:20261213T090000
DTSTAMP:20260425T113321
CREATED:20260128T031636Z
LAST-MODIFIED:20260128T031636Z
UID:10005093-1797152400-1797152400@nwc.org
SUMMARY:9:00am Worship Service
DESCRIPTION:
URL:https://nwc.org/event/900am-worship-service-46/
CATEGORIES:Worship
END:VEVENT
BEGIN:VEVENT
DTSTART;TZID=UTC:20261213T093000
DTEND;TZID=UTC:20261213T093000
DTSTAMP:20260425T113321
CREATED:20260127T191840Z
LAST-MODIFIED:20260128T032300Z
UID:10005021-1797154200-1797154200@nwc.org
SUMMARY:Encore
DESCRIPTION:
URL:https://nwc.org/event/encore-46/
LOCATION:Northwest Church\, 5415 N West Ave\, Fresno\, California\, 92711\, United States
CATEGORIES:Seniors
END:VEVENT
BEGIN:VEVENT
DTSTART;TZID=UTC:20261213T103000
DTEND;TZID=UTC:20261213T103000
DTSTAMP:20260425T113321
CREATED:20240909T182230Z
LAST-MODIFIED:20260128T032703Z
UID:10002291-1797157800-1797157800@nwc.org
SUMMARY:The Word Class
DESCRIPTION:
URL:https://nwc.org/event/the-word-class-155/
LOCATION:Northwest Church\, 5415 N West Ave\, Fresno\, California\, 92711\, United States
CATEGORIES:Life Groups
END:VEVENT
BEGIN:VEVENT
DTSTART;TZID=UTC:20261213T110000
DTEND;TZID=UTC:20261213T110000
DTSTAMP:20260425T113321
CREATED:20260127T191843Z
LAST-MODIFIED:20260128T032534Z
UID:10005022-1797159600-1797159600@nwc.org
SUMMARY:Students Ministry Youth Service
DESCRIPTION:
URL:https://nwc.org/event/students-ministry-youth-service-46/
LOCATION:Northwest Church\, 5415 N West Ave\, Fresno\, California\, 92711\, United States
CATEGORIES:High School
END:VEVENT
BEGIN:VEVENT
DTSTART;TZID=UTC:20261213T110000
DTEND;TZID=UTC:20261213T110000
DTSTAMP:20260425T113321
CREATED:20260128T031859Z
LAST-MODIFIED:20260128T031859Z
UID:10005145-1797159600-1797159600@nwc.org
SUMMARY:11:00am Worship Service
DESCRIPTION:
URL:https://nwc.org/event/1100am-worship-service-46/
CATEGORIES:Worship
END:VEVENT
BEGIN:VEVENT
DTSTART;TZID=UTC:20261216T180000
DTEND;TZID=UTC:20261216T180000
DTSTAMP:20260425T113321
CREATED:20260127T191844Z
LAST-MODIFIED:20260128T032934Z
UID:10005023-1797444000-1797444000@nwc.org
SUMMARY:Youth Wednesday Service
DESCRIPTION:
URL:https://nwc.org/event/youth-wednesday-service-47/
LOCATION:Northwest Church\, 5415 N West Ave\, Fresno\, California\, 92711\, United States
CATEGORIES:High School
END:VEVENT
BEGIN:VEVENT
DTSTART;TZID=UTC:20261217T180000
DTEND;TZID=UTC:20261217T180000
DTSTAMP:20260425T113321
CREATED:20260127T191844Z
LAST-MODIFIED:20260128T032817Z
UID:10005024-1797530400-1797530400@nwc.org
SUMMARY:Young Adults
DESCRIPTION:
URL:https://nwc.org/event/young-adults-48/
LOCATION:Family Room\, 5415 N West Ave\, Fresno\, California\, 93711\, United States
CATEGORIES:Young Adults
END:VEVENT
BEGIN:VEVENT
DTSTART;TZID=UTC:20261220T090000
DTEND;TZID=UTC:20261220T090000
DTSTAMP:20260425T113321
CREATED:20260128T031636Z
LAST-MODIFIED:20260128T031636Z
UID:10005094-1797757200-1797757200@nwc.org
SUMMARY:9:00am Worship Service
DESCRIPTION:
URL:https://nwc.org/event/900am-worship-service-47/
CATEGORIES:Worship
END:VEVENT
BEGIN:VEVENT
DTSTART;TZID=UTC:20261220T093000
DTEND;TZID=UTC:20261220T093000
DTSTAMP:20260425T113321
CREATED:20260127T191913Z
LAST-MODIFIED:20260128T032301Z
UID:10005025-1797759000-1797759000@nwc.org
SUMMARY:Encore
DESCRIPTION:
URL:https://nwc.org/event/encore-47/
LOCATION:Northwest Church\, 5415 N West Ave\, Fresno\, California\, 92711\, United States
CATEGORIES:Seniors
END:VEVENT
BEGIN:VEVENT
DTSTART;TZID=UTC:20261220T103000
DTEND;TZID=UTC:20261220T103000
DTSTAMP:20260425T113321
CREATED:20240909T182240Z
LAST-MODIFIED:20260128T032703Z
UID:10002293-1797762600-1797762600@nwc.org
SUMMARY:The Word Class
DESCRIPTION:
URL:https://nwc.org/event/the-word-class-156/
LOCATION:Northwest Church\, 5415 N West Ave\, Fresno\, California\, 92711\, United States
CATEGORIES:Life Groups
END:VEVENT
BEGIN:VEVENT
DTSTART;TZID=UTC:20261220T110000
DTEND;TZID=UTC:20261220T110000
DTSTAMP:20260425T113321
CREATED:20260127T191914Z
LAST-MODIFIED:20260128T032534Z
UID:10005026-1797764400-1797764400@nwc.org
SUMMARY:Students Ministry Youth Service
DESCRIPTION:
URL:https://nwc.org/event/students-ministry-youth-service-47/
LOCATION:Northwest Church\, 5415 N West Ave\, Fresno\, California\, 92711\, United States
CATEGORIES:High School
END:VEVENT
BEGIN:VEVENT
DTSTART;TZID=UTC:20261220T110000
DTEND;TZID=UTC:20261220T110000
DTSTAMP:20260425T113321
CREATED:20260128T031900Z
LAST-MODIFIED:20260128T031900Z
UID:10005146-1797764400-1797764400@nwc.org
SUMMARY:11:00am Worship Service
DESCRIPTION:
URL:https://nwc.org/event/1100am-worship-service-47/
CATEGORIES:Worship
END:VEVENT
BEGIN:VEVENT
DTSTART;TZID=UTC:20261223T180000
DTEND;TZID=UTC:20261223T180000
DTSTAMP:20260425T113321
CREATED:20260127T191915Z
LAST-MODIFIED:20260128T032936Z
UID:10005027-1798048800-1798048800@nwc.org
SUMMARY:Youth Wednesday Service
DESCRIPTION:
URL:https://nwc.org/event/youth-wednesday-service-48/
LOCATION:Northwest Church\, 5415 N West Ave\, Fresno\, California\, 92711\, United States
CATEGORIES:High School
END:VEVENT
BEGIN:VEVENT
DTSTART;TZID=UTC:20261224T180000
DTEND;TZID=UTC:20261224T180000
DTSTAMP:20260425T113321
CREATED:20260127T192040Z
LAST-MODIFIED:20260128T032818Z
UID:10005028-1798135200-1798135200@nwc.org
SUMMARY:Young Adults
DESCRIPTION:
URL:https://nwc.org/event/young-adults-49/
LOCATION:Family Room\, 5415 N West Ave\, Fresno\, California\, 93711\, United States
CATEGORIES:Young Adults
END:VEVENT
END:VCALENDAR