BEGIN:VCALENDAR
VERSION:2.0
PRODID:-//Northwest Church - ECPv6.15.20//NONSGML v1.0//EN
CALSCALE:GREGORIAN
METHOD:PUBLISH
X-ORIGINAL-URL:https://nwc.org
X-WR-CALDESC:Events for Northwest Church
REFRESH-INTERVAL;VALUE=DURATION:PT1H
X-Robots-Tag:noindex
X-PUBLISHED-TTL:PT1H
BEGIN:VTIMEZONE
TZID:UTC
BEGIN:STANDARD
TZOFFSETFROM:+0000
TZOFFSETTO:+0000
TZNAME:UTC
DTSTART:20250101T000000
END:STANDARD
END:VTIMEZONE
BEGIN:VEVENT
DTSTART;TZID=UTC:20260222T103000
DTEND;TZID=UTC:20260222T103000
DTSTAMP:20260425T114909
CREATED:20240506T203848Z
LAST-MODIFIED:20260128T032552Z
UID:10000414-1771756200-1771756200@nwc.org
SUMMARY:The Word Class
DESCRIPTION:
URL:https://nwc.org/event/the-word-class-113/
LOCATION:Northwest Church\, 5415 N West Ave\, Fresno\, California\, 92711\, United States
CATEGORIES:Life Groups
END:VEVENT
BEGIN:VEVENT
DTSTART;TZID=UTC:20260222T110000
DTEND;TZID=UTC:20260222T110000
DTSTAMP:20260425T114909
CREATED:20260127T184949Z
LAST-MODIFIED:20260128T032408Z
UID:10004830-1771758000-1771758000@nwc.org
SUMMARY:Students Ministry Youth Service
DESCRIPTION:
URL:https://nwc.org/event/students-ministry-youth-service-4/
LOCATION:Northwest Church\, 5415 N West Ave\, Fresno\, California\, 92711\, United States
CATEGORIES:High School
END:VEVENT
BEGIN:VEVENT
DTSTART;TZID=UTC:20260222T110000
DTEND;TZID=UTC:20260222T110000
DTSTAMP:20260425T114909
CREATED:20260128T031706Z
LAST-MODIFIED:20260128T031706Z
UID:10005103-1771758000-1771758000@nwc.org
SUMMARY:11:00am Worship Service
DESCRIPTION:
URL:https://nwc.org/event/1100am-worship-service-4/
CATEGORIES:Worship
END:VEVENT
BEGIN:VEVENT
DTSTART;TZID=UTC:20260223T180000
DTEND;TZID=UTC:20260223T200000
DTSTAMP:20260425T114909
CREATED:20260128T034723Z
LAST-MODIFIED:20260128T035306Z
UID:10005182-1771869600-1771876800@nwc.org
SUMMARY:Grief Share
DESCRIPTION:
URL:https://nwc.org/event/grief-share-16/2026-02-23/
END:VEVENT
BEGIN:VEVENT
DTSTART;TZID=UTC:20260224T180000
DTEND;TZID=UTC:20260224T180000
DTSTAMP:20260425T114909
CREATED:20260127T184951Z
LAST-MODIFIED:20260128T032328Z
UID:10004831-1771956000-1771956000@nwc.org
SUMMARY:Men's Monthly Gathering
DESCRIPTION:
URL:https://nwc.org/event/mens-monthly-gathering-14/
LOCATION:Northwest Church\, 5415 N West Ave\, Fresno\, California\, 92711\, United States
CATEGORIES:Men
END:VEVENT
BEGIN:VEVENT
DTSTART;TZID=UTC:20260224T180000
DTEND;TZID=UTC:20260224T200000
DTSTAMP:20260425T114909
CREATED:20260128T035003Z
LAST-MODIFIED:20260128T035411Z
UID:10005197-1771956000-1771963200@nwc.org
SUMMARY:Divorce Care
DESCRIPTION:
URL:https://nwc.org/event/divorce-care-14/2026-02-24/
END:VEVENT
BEGIN:VEVENT
DTSTART;TZID=UTC:20260225T180000
DTEND;TZID=UTC:20260225T180000
DTSTAMP:20260425T114909
CREATED:20260127T184952Z
LAST-MODIFIED:20260128T032836Z
UID:10004832-1772042400-1772042400@nwc.org
SUMMARY:Youth Wednesday Service
DESCRIPTION:
URL:https://nwc.org/event/youth-wednesday-service-5/
LOCATION:Northwest Church\, 5415 N West Ave\, Fresno\, California\, 92711\, United States
CATEGORIES:High School
END:VEVENT
BEGIN:VEVENT
DTSTART;TZID=UTC:20260226T180000
DTEND;TZID=UTC:20260226T180000
DTSTAMP:20260425T114909
CREATED:20260127T184952Z
LAST-MODIFIED:20260128T032723Z
UID:10004833-1772128800-1772128800@nwc.org
SUMMARY:Young Adults
DESCRIPTION:
URL:https://nwc.org/event/young-adults-6/
LOCATION:Family Room\, 5415 N West Ave\, Fresno\, California\, 93711\, United States
CATEGORIES:Young Adults
END:VEVENT
BEGIN:VEVENT
DTSTART;TZID=UTC:20260227T180000
DTEND;TZID=UTC:20260227T180000
DTSTAMP:20260425T114909
CREATED:20260127T184953Z
LAST-MODIFIED:20260128T044652Z
UID:10004834-1772215200-1772215200@nwc.org
SUMMARY:Galentine’s Gala
DESCRIPTION:Register
URL:https://nwc.org/event/galentines-gala/
LOCATION:Northwest Church\, 5415 N West Ave\, Fresno\, California\, 92711\, United States
CATEGORIES:Women
END:VEVENT
BEGIN:VEVENT
DTSTART;TZID=UTC:20260301T090000
DTEND;TZID=UTC:20260301T090000
DTSTAMP:20260425T114909
CREATED:20260128T031123Z
LAST-MODIFIED:20260128T031123Z
UID:10005052-1772355600-1772355600@nwc.org
SUMMARY:9:00am Worship Service
DESCRIPTION:
URL:https://nwc.org/event/900am-worship-service-5/
CATEGORIES:Worship
END:VEVENT
BEGIN:VEVENT
DTSTART;TZID=UTC:20260301T093000
DTEND;TZID=UTC:20260301T093000
DTSTAMP:20260425T114909
CREATED:20260127T185006Z
LAST-MODIFIED:20260128T031933Z
UID:10004835-1772357400-1772357400@nwc.org
SUMMARY:Encore
DESCRIPTION:
URL:https://nwc.org/event/encore-5/
LOCATION:Northwest Church\, 5415 N West Ave\, Fresno\, California\, 92711\, United States
CATEGORIES:Seniors
END:VEVENT
BEGIN:VEVENT
DTSTART;TZID=UTC:20260301T103000
DTEND;TZID=UTC:20260301T103000
DTSTAMP:20260425T114909
CREATED:20240506T203849Z
LAST-MODIFIED:20260128T032552Z
UID:10000416-1772361000-1772361000@nwc.org
SUMMARY:The Word Class
DESCRIPTION:
URL:https://nwc.org/event/the-word-class-114/
LOCATION:Northwest Church\, 5415 N West Ave\, Fresno\, California\, 92711\, United States
CATEGORIES:Life Groups
END:VEVENT
BEGIN:VEVENT
DTSTART;TZID=UTC:20260301T110000
DTEND;TZID=UTC:20260301T110000
DTSTAMP:20260425T114909
CREATED:20260127T185008Z
LAST-MODIFIED:20260128T032419Z
UID:10004836-1772362800-1772362800@nwc.org
SUMMARY:Students Ministry Youth Service
DESCRIPTION:
URL:https://nwc.org/event/students-ministry-youth-service-5/
LOCATION:Northwest Church\, 5415 N West Ave\, Fresno\, California\, 92711\, United States
CATEGORIES:High School
END:VEVENT
BEGIN:VEVENT
DTSTART;TZID=UTC:20260301T110000
DTEND;TZID=UTC:20260301T110000
DTSTAMP:20260425T114909
CREATED:20260128T031706Z
LAST-MODIFIED:20260128T031706Z
UID:10005104-1772362800-1772362800@nwc.org
SUMMARY:11:00am Worship Service
DESCRIPTION:
URL:https://nwc.org/event/1100am-worship-service-5/
CATEGORIES:Worship
END:VEVENT
BEGIN:VEVENT
DTSTART;TZID=UTC:20260302T180000
DTEND;TZID=UTC:20260302T200000
DTSTAMP:20260425T114909
CREATED:20260128T034723Z
LAST-MODIFIED:20260128T035306Z
UID:10005183-1772474400-1772481600@nwc.org
SUMMARY:Grief Share
DESCRIPTION:
URL:https://nwc.org/event/grief-share-16/2026-03-02/
END:VEVENT
BEGIN:VEVENT
DTSTART;TZID=UTC:20260303T180000
DTEND;TZID=UTC:20260303T200000
DTSTAMP:20260425T114909
CREATED:20260128T035003Z
LAST-MODIFIED:20260128T035411Z
UID:10005198-1772560800-1772568000@nwc.org
SUMMARY:Divorce Care
DESCRIPTION:
URL:https://nwc.org/event/divorce-care-14/2026-03-03/
END:VEVENT
BEGIN:VEVENT
DTSTART;TZID=UTC:20260304T180000
DTEND;TZID=UTC:20260304T180000
DTSTAMP:20260425T114909
CREATED:20260127T185008Z
LAST-MODIFIED:20260128T032837Z
UID:10004837-1772647200-1772647200@nwc.org
SUMMARY:Youth Wednesday Service
DESCRIPTION:
URL:https://nwc.org/event/youth-wednesday-service-6/
LOCATION:Northwest Church\, 5415 N West Ave\, Fresno\, California\, 92711\, United States
CATEGORIES:High School
END:VEVENT
BEGIN:VEVENT
DTSTART;TZID=UTC:20260305T180000
DTEND;TZID=UTC:20260305T180000
DTSTAMP:20260425T114909
CREATED:20260127T185204Z
LAST-MODIFIED:20260128T032725Z
UID:10004838-1772733600-1772733600@nwc.org
SUMMARY:Young Adults
DESCRIPTION:
URL:https://nwc.org/event/young-adults-7/
LOCATION:Family Room\, 5415 N West Ave\, Fresno\, California\, 93711\, United States
CATEGORIES:Young Adults
END:VEVENT
BEGIN:VEVENT
DTSTART;TZID=UTC:20260306T180000
DTEND;TZID=UTC:20260306T180000
DTSTAMP:20260425T114909
CREATED:20260127T185206Z
LAST-MODIFIED:20260128T031922Z
UID:10004839-1772820000-1772820000@nwc.org
SUMMARY:COMEDY NIGHT
DESCRIPTION:
URL:https://nwc.org/event/comedy-night/
LOCATION:Northwest Church\, 5415 N West Ave\, Fresno\, California\, 92711\, United States
CATEGORIES:High School
END:VEVENT
BEGIN:VEVENT
DTSTART;TZID=UTC:20260308T090000
DTEND;TZID=UTC:20260308T090000
DTSTAMP:20260425T114909
CREATED:20260128T031125Z
LAST-MODIFIED:20260128T031125Z
UID:10005053-1772960400-1772960400@nwc.org
SUMMARY:9:00am Worship Service
DESCRIPTION:
URL:https://nwc.org/event/900am-worship-service-6/
CATEGORIES:Worship
END:VEVENT
BEGIN:VEVENT
DTSTART;TZID=UTC:20260308T093000
DTEND;TZID=UTC:20260308T093000
DTSTAMP:20260425T114909
CREATED:20260127T185208Z
LAST-MODIFIED:20260128T031935Z
UID:10004840-1772962200-1772962200@nwc.org
SUMMARY:Encore
DESCRIPTION:
URL:https://nwc.org/event/encore-6/
LOCATION:Northwest Church\, 5415 N West Ave\, Fresno\, California\, 92711\, United States
CATEGORIES:Seniors
END:VEVENT
BEGIN:VEVENT
DTSTART;TZID=UTC:20260308T103000
DTEND;TZID=UTC:20260308T103000
DTSTAMP:20260425T114909
CREATED:20240506T203903Z
LAST-MODIFIED:20260128T032552Z
UID:10000419-1772965800-1772965800@nwc.org
SUMMARY:The Word Class
DESCRIPTION:
URL:https://nwc.org/event/the-word-class-115/
LOCATION:Northwest Church\, 5415 N West Ave\, Fresno\, California\, 92711\, United States
CATEGORIES:Life Groups
END:VEVENT
BEGIN:VEVENT
DTSTART;TZID=UTC:20260308T110000
DTEND;TZID=UTC:20260308T110000
DTSTAMP:20260425T114909
CREATED:20260127T185219Z
LAST-MODIFIED:20260128T032421Z
UID:10004841-1772967600-1772967600@nwc.org
SUMMARY:Students Ministry Youth Service
DESCRIPTION:
URL:https://nwc.org/event/students-ministry-youth-service-6/
LOCATION:Northwest Church\, 5415 N West Ave\, Fresno\, California\, 92711\, United States
CATEGORIES:High School
END:VEVENT
BEGIN:VEVENT
DTSTART;TZID=UTC:20260308T110000
DTEND;TZID=UTC:20260308T110000
DTSTAMP:20260425T114909
CREATED:20260128T031707Z
LAST-MODIFIED:20260128T031707Z
UID:10005105-1772967600-1772967600@nwc.org
SUMMARY:11:00am Worship Service
DESCRIPTION:
URL:https://nwc.org/event/1100am-worship-service-6/
CATEGORIES:Worship
END:VEVENT
BEGIN:VEVENT
DTSTART;TZID=UTC:20260309T180000
DTEND;TZID=UTC:20260309T200000
DTSTAMP:20260425T114909
CREATED:20260128T034723Z
LAST-MODIFIED:20260128T035306Z
UID:10005184-1773079200-1773086400@nwc.org
SUMMARY:Grief Share
DESCRIPTION:
URL:https://nwc.org/event/grief-share-16/2026-03-09/
END:VEVENT
BEGIN:VEVENT
DTSTART;TZID=UTC:20260310T180000
DTEND;TZID=UTC:20260310T200000
DTSTAMP:20260425T114909
CREATED:20260128T035003Z
LAST-MODIFIED:20260128T035411Z
UID:10005199-1773165600-1773172800@nwc.org
SUMMARY:Divorce Care
DESCRIPTION:
URL:https://nwc.org/event/divorce-care-14/2026-03-10/
END:VEVENT
BEGIN:VEVENT
DTSTART;TZID=UTC:20260311T180000
DTEND;TZID=UTC:20260311T180000
DTSTAMP:20260425T114909
CREATED:20260127T185221Z
LAST-MODIFIED:20260128T032840Z
UID:10004842-1773252000-1773252000@nwc.org
SUMMARY:Youth Wednesday Service
DESCRIPTION:
URL:https://nwc.org/event/youth-wednesday-service-7/
LOCATION:Northwest Church\, 5415 N West Ave\, Fresno\, California\, 92711\, United States
CATEGORIES:High School
END:VEVENT
BEGIN:VEVENT
DTSTART;TZID=UTC:20260312T180000
DTEND;TZID=UTC:20260312T180000
DTSTAMP:20260425T114909
CREATED:20260127T185222Z
LAST-MODIFIED:20260128T032727Z
UID:10004843-1773338400-1773338400@nwc.org
SUMMARY:Young Adults
DESCRIPTION:
URL:https://nwc.org/event/young-adults-8/
LOCATION:Family Room\, 5415 N West Ave\, Fresno\, California\, 93711\, United States
CATEGORIES:Young Adults
END:VEVENT
BEGIN:VEVENT
DTSTART;TZID=UTC:20260314T120000
DTEND;TZID=UTC:20260314T120000
DTSTAMP:20260425T114909
CREATED:20260127T185222Z
LAST-MODIFIED:20260128T032402Z
UID:10004844-1773489600-1773489600@nwc.org
SUMMARY:St. Patrick's Day
DESCRIPTION:
URL:https://nwc.org/event/st-patricks-day/
LOCATION:Northwest Church\, 5415 N West Ave\, Fresno\, California\, 92711\, United States
CATEGORIES:Primetimers
END:VEVENT
BEGIN:VEVENT
DTSTART;TZID=UTC:20260315T090000
DTEND;TZID=UTC:20260315T090000
DTSTAMP:20260425T114909
CREATED:20260128T031125Z
LAST-MODIFIED:20260128T031125Z
UID:10005054-1773565200-1773565200@nwc.org
SUMMARY:9:00am Worship Service
DESCRIPTION:
URL:https://nwc.org/event/900am-worship-service-7/
CATEGORIES:Worship
END:VEVENT
END:VCALENDAR