BEGIN:VCALENDAR
VERSION:2.0
PRODID:-//Northwest Church - ECPv6.15.20//NONSGML v1.0//EN
CALSCALE:GREGORIAN
METHOD:PUBLISH
X-WR-CALNAME:Northwest Church
X-ORIGINAL-URL:https://nwc.org
X-WR-CALDESC:Events for Northwest Church
REFRESH-INTERVAL;VALUE=DURATION:PT1H
X-Robots-Tag:noindex
X-PUBLISHED-TTL:PT1H
BEGIN:VTIMEZONE
TZID:UTC
BEGIN:STANDARD
TZOFFSETFROM:+0000
TZOFFSETTO:+0000
TZNAME:UTC
DTSTART:20250101T000000
END:STANDARD
END:VTIMEZONE
BEGIN:VEVENT
DTSTART;TZID=UTC:20260204T180000
DTEND;TZID=UTC:20260204T180000
DTSTAMP:20260425T113233
CREATED:20260127T184653Z
LAST-MODIFIED:20260128T032834Z
UID:10004816-1770228000-1770228000@nwc.org
SUMMARY:Youth Wednesday Service
DESCRIPTION:
URL:https://nwc.org/event/youth-wednesday-service-2/
LOCATION:Northwest Church\, 5415 N West Ave\, Fresno\, California\, 92711\, United States
CATEGORIES:High School
END:VEVENT
BEGIN:VEVENT
DTSTART;TZID=UTC:20260204T183000
DTEND;TZID=UTC:20260204T183000
DTSTAMP:20260425T113233
CREATED:20260127T184654Z
LAST-MODIFIED:20260128T034032Z
UID:10004817-1770229800-1770229800@nwc.org
SUMMARY:Worship Night
DESCRIPTION:
URL:https://nwc.org/event/worship-night-7/
LOCATION:Northwest Church\, 5415 N West Ave\, Fresno\, California\, 92711\, United States
CATEGORIES:Worship
ATTACH;FMTTYPE=image/jpeg:https://nwc.org/wp-content/uploads/2025/05/Worship-WEB.jpg
END:VEVENT
BEGIN:VEVENT
DTSTART;TZID=UTC:20260205T180000
DTEND;TZID=UTC:20260205T180000
DTSTAMP:20260425T113233
CREATED:20260127T184658Z
LAST-MODIFIED:20260128T032722Z
UID:10004818-1770314400-1770314400@nwc.org
SUMMARY:Young Adults
DESCRIPTION:
URL:https://nwc.org/event/young-adults-3/
LOCATION:Family Room\, 5415 N West Ave\, Fresno\, California\, 93711\, United States
CATEGORIES:Young Adults
END:VEVENT
BEGIN:VEVENT
DTSTART;TZID=UTC:20260208T090000
DTEND;TZID=UTC:20260208T090000
DTSTAMP:20260425T113233
CREATED:20260128T031121Z
LAST-MODIFIED:20260128T031121Z
UID:10005049-1770541200-1770541200@nwc.org
SUMMARY:9:00am Worship Service
DESCRIPTION:
URL:https://nwc.org/event/900am-worship-service-2/
CATEGORIES:Worship
END:VEVENT
BEGIN:VEVENT
DTSTART;TZID=UTC:20260208T093000
DTEND;TZID=UTC:20260208T093000
DTSTAMP:20260425T113233
CREATED:20260127T184701Z
LAST-MODIFIED:20260128T031925Z
UID:10004819-1770543000-1770543000@nwc.org
SUMMARY:Encore
DESCRIPTION:
URL:https://nwc.org/event/encore-2/
LOCATION:Northwest Church\, 5415 N West Ave\, Fresno\, California\, 92711\, United States
CATEGORIES:Seniors
END:VEVENT
BEGIN:VEVENT
DTSTART;TZID=UTC:20260208T103000
DTEND;TZID=UTC:20260208T103000
DTSTAMP:20260425T113233
CREATED:20240506T203833Z
LAST-MODIFIED:20260128T032547Z
UID:10000410-1770546600-1770546600@nwc.org
SUMMARY:The Word Class
DESCRIPTION:
URL:https://nwc.org/event/the-word-class-111/
LOCATION:Northwest Church\, 5415 N West Ave\, Fresno\, California\, 92711\, United States
CATEGORIES:Life Groups
END:VEVENT
BEGIN:VEVENT
DTSTART;TZID=UTC:20260208T110000
DTEND;TZID=UTC:20260208T110000
DTSTAMP:20260425T113233
CREATED:20260127T184702Z
LAST-MODIFIED:20260128T032408Z
UID:10004820-1770548400-1770548400@nwc.org
SUMMARY:Students Ministry Youth Service
DESCRIPTION:
URL:https://nwc.org/event/students-ministry-youth-service-2/
LOCATION:Northwest Church\, 5415 N West Ave\, Fresno\, California\, 92711\, United States
CATEGORIES:High School
END:VEVENT
BEGIN:VEVENT
DTSTART;TZID=UTC:20260208T110000
DTEND;TZID=UTC:20260208T110000
DTSTAMP:20260425T113233
CREATED:20260128T031652Z
LAST-MODIFIED:20260128T031652Z
UID:10005101-1770548400-1770548400@nwc.org
SUMMARY:11:00am Worship Service
DESCRIPTION:
URL:https://nwc.org/event/1100am-worship-service-2/
CATEGORIES:Worship
END:VEVENT
BEGIN:VEVENT
DTSTART;TZID=UTC:20260209T180000
DTEND;TZID=UTC:20260209T200000
DTSTAMP:20260425T113233
CREATED:20260128T034723Z
LAST-MODIFIED:20260128T035306Z
UID:10005181-1770660000-1770667200@nwc.org
SUMMARY:Grief Share
DESCRIPTION:
URL:https://nwc.org/event/grief-share-16/2026-02-09/
END:VEVENT
BEGIN:VEVENT
DTSTART;TZID=UTC:20260210T180000
DTEND;TZID=UTC:20260210T200000
DTSTAMP:20260425T113233
CREATED:20260128T035003Z
LAST-MODIFIED:20260128T035411Z
UID:10005195-1770746400-1770753600@nwc.org
SUMMARY:Divorce Care
DESCRIPTION:
URL:https://nwc.org/event/divorce-care-14/2026-02-10/
END:VEVENT
BEGIN:VEVENT
DTSTART;TZID=UTC:20260211T180000
DTEND;TZID=UTC:20260211T180000
DTSTAMP:20260425T113233
CREATED:20260127T184711Z
LAST-MODIFIED:20260128T032836Z
UID:10004821-1770832800-1770832800@nwc.org
SUMMARY:Youth Wednesday Service
DESCRIPTION:
URL:https://nwc.org/event/youth-wednesday-service-3/
LOCATION:Northwest Church\, 5415 N West Ave\, Fresno\, California\, 92711\, United States
CATEGORIES:High School
END:VEVENT
BEGIN:VEVENT
DTSTART;TZID=UTC:20260212T180000
DTEND;TZID=UTC:20260212T180000
DTSTAMP:20260425T113233
CREATED:20260127T184713Z
LAST-MODIFIED:20260128T032722Z
UID:10004822-1770919200-1770919200@nwc.org
SUMMARY:Young Adults
DESCRIPTION:
URL:https://nwc.org/event/young-adults-4/
LOCATION:Family Room\, 5415 N West Ave\, Fresno\, California\, 93711\, United States
CATEGORIES:Young Adults
END:VEVENT
BEGIN:VEVENT
DTSTART;TZID=UTC:20260215T090000
DTEND;TZID=UTC:20260215T090000
DTSTAMP:20260425T113233
CREATED:20260128T031122Z
LAST-MODIFIED:20260128T031122Z
UID:10005050-1771146000-1771146000@nwc.org
SUMMARY:9:00am Worship Service
DESCRIPTION:
URL:https://nwc.org/event/900am-worship-service-3/
CATEGORIES:Worship
END:VEVENT
BEGIN:VEVENT
DTSTART;TZID=UTC:20260215T093000
DTEND;TZID=UTC:20260215T093000
DTSTAMP:20260425T113233
CREATED:20260127T184714Z
LAST-MODIFIED:20260128T031926Z
UID:10004823-1771147800-1771147800@nwc.org
SUMMARY:Encore
DESCRIPTION:
URL:https://nwc.org/event/encore-3/
LOCATION:Northwest Church\, 5415 N West Ave\, Fresno\, California\, 92711\, United States
CATEGORIES:Seniors
END:VEVENT
BEGIN:VEVENT
DTSTART;TZID=UTC:20260215T103000
DTEND;TZID=UTC:20260215T103000
DTSTAMP:20260425T113233
CREATED:20240506T203847Z
LAST-MODIFIED:20260128T032550Z
UID:10000412-1771151400-1771151400@nwc.org
SUMMARY:The Word Class
DESCRIPTION:
URL:https://nwc.org/event/the-word-class-112/
LOCATION:Northwest Church\, 5415 N West Ave\, Fresno\, California\, 92711\, United States
CATEGORIES:Life Groups
END:VEVENT
BEGIN:VEVENT
DTSTART;TZID=UTC:20260215T110000
DTEND;TZID=UTC:20260215T110000
DTSTAMP:20260425T113233
CREATED:20260127T184914Z
LAST-MODIFIED:20260128T032408Z
UID:10004824-1771153200-1771153200@nwc.org
SUMMARY:Students Ministry Youth Service
DESCRIPTION:
URL:https://nwc.org/event/students-ministry-youth-service-3/
LOCATION:Northwest Church\, 5415 N West Ave\, Fresno\, California\, 92711\, United States
CATEGORIES:High School
END:VEVENT
BEGIN:VEVENT
DTSTART;TZID=UTC:20260215T110000
DTEND;TZID=UTC:20260215T110000
DTSTAMP:20260425T113233
CREATED:20260128T031704Z
LAST-MODIFIED:20260128T031704Z
UID:10005102-1771153200-1771153200@nwc.org
SUMMARY:11:00am Worship Service
DESCRIPTION:
URL:https://nwc.org/event/1100am-worship-service-3/
CATEGORIES:Worship
END:VEVENT
BEGIN:VEVENT
DTSTART;TZID=UTC:20260215T120000
DTEND;TZID=UTC:20260215T120000
DTSTAMP:20260425T113233
CREATED:20260127T184916Z
LAST-MODIFIED:20260128T032405Z
UID:10004825-1771156800-1771156800@nwc.org
SUMMARY:Steps with Paul group meeting
DESCRIPTION:
URL:https://nwc.org/event/steps-with-paul-group-meeting/
LOCATION:Family Room\, 5415 N West Ave\, Fresno\, California\, 93711\, United States
CATEGORIES:Primetimers
END:VEVENT
BEGIN:VEVENT
DTSTART;TZID=UTC:20260217T180000
DTEND;TZID=UTC:20260217T200000
DTSTAMP:20260425T113233
CREATED:20260128T035003Z
LAST-MODIFIED:20260128T035411Z
UID:10005196-1771351200-1771358400@nwc.org
SUMMARY:Divorce Care
DESCRIPTION:
URL:https://nwc.org/event/divorce-care-14/2026-02-17/
END:VEVENT
BEGIN:VEVENT
DTSTART;TZID=UTC:20260218T180000
DTEND;TZID=UTC:20260218T180000
DTSTAMP:20260425T113233
CREATED:20260127T184917Z
LAST-MODIFIED:20260128T032836Z
UID:10004826-1771437600-1771437600@nwc.org
SUMMARY:Youth Wednesday Service
DESCRIPTION:
URL:https://nwc.org/event/youth-wednesday-service-4/
LOCATION:Northwest Church\, 5415 N West Ave\, Fresno\, California\, 92711\, United States
CATEGORIES:High School
END:VEVENT
BEGIN:VEVENT
DTSTART;TZID=UTC:20260219T180000
DTEND;TZID=UTC:20260219T180000
DTSTAMP:20260425T113233
CREATED:20260127T184917Z
LAST-MODIFIED:20260128T032723Z
UID:10004827-1771524000-1771524000@nwc.org
SUMMARY:Young Adults
DESCRIPTION:
URL:https://nwc.org/event/young-adults-5/
LOCATION:Family Room\, 5415 N West Ave\, Fresno\, California\, 93711\, United States
CATEGORIES:Young Adults
END:VEVENT
BEGIN:VEVENT
DTSTART;TZID=UTC:20260220T080000
DTEND;TZID=UTC:20260222T170000
DTSTAMP:20260425T113233
CREATED:20260128T043441Z
LAST-MODIFIED:20260128T043513Z
UID:10005207-1771574400-1771779600@nwc.org
SUMMARY:Men's Retreat 2026
DESCRIPTION:
URL:https://nwc.org/event/mens-retreat-2026/
LOCATION:ecco park\, 43803 Hwy 41\, Oakhurst\, California\, 93644\, United States
ORGANIZER;CN="Kevin Ross":MAILTO:kross@nwc.org
END:VEVENT
BEGIN:VEVENT
DTSTART;TZID=UTC:20260222T090000
DTEND;TZID=UTC:20260222T090000
DTSTAMP:20260425T113233
CREATED:20260128T031122Z
LAST-MODIFIED:20260128T031122Z
UID:10005051-1771750800-1771750800@nwc.org
SUMMARY:9:00am Worship Service
DESCRIPTION:
URL:https://nwc.org/event/900am-worship-service-4/
CATEGORIES:Worship
END:VEVENT
BEGIN:VEVENT
DTSTART;TZID=UTC:20260222T093000
DTEND;TZID=UTC:20260222T093000
DTSTAMP:20260425T113233
CREATED:20260127T184932Z
LAST-MODIFIED:20260128T031926Z
UID:10004829-1771752600-1771752600@nwc.org
SUMMARY:Encore
DESCRIPTION:
URL:https://nwc.org/event/encore-4/
LOCATION:Northwest Church\, 5415 N West Ave\, Fresno\, California\, 92711\, United States
CATEGORIES:Seniors
END:VEVENT
BEGIN:VEVENT
DTSTART;TZID=UTC:20260222T103000
DTEND;TZID=UTC:20260222T103000
DTSTAMP:20260425T113233
CREATED:20240506T203848Z
LAST-MODIFIED:20260128T032552Z
UID:10000414-1771756200-1771756200@nwc.org
SUMMARY:The Word Class
DESCRIPTION:
URL:https://nwc.org/event/the-word-class-113/
LOCATION:Northwest Church\, 5415 N West Ave\, Fresno\, California\, 92711\, United States
CATEGORIES:Life Groups
END:VEVENT
BEGIN:VEVENT
DTSTART;TZID=UTC:20260222T110000
DTEND;TZID=UTC:20260222T110000
DTSTAMP:20260425T113233
CREATED:20260127T184949Z
LAST-MODIFIED:20260128T032408Z
UID:10004830-1771758000-1771758000@nwc.org
SUMMARY:Students Ministry Youth Service
DESCRIPTION:
URL:https://nwc.org/event/students-ministry-youth-service-4/
LOCATION:Northwest Church\, 5415 N West Ave\, Fresno\, California\, 92711\, United States
CATEGORIES:High School
END:VEVENT
BEGIN:VEVENT
DTSTART;TZID=UTC:20260222T110000
DTEND;TZID=UTC:20260222T110000
DTSTAMP:20260425T113233
CREATED:20260128T031706Z
LAST-MODIFIED:20260128T031706Z
UID:10005103-1771758000-1771758000@nwc.org
SUMMARY:11:00am Worship Service
DESCRIPTION:
URL:https://nwc.org/event/1100am-worship-service-4/
CATEGORIES:Worship
END:VEVENT
BEGIN:VEVENT
DTSTART;TZID=UTC:20260223T180000
DTEND;TZID=UTC:20260223T200000
DTSTAMP:20260425T113233
CREATED:20260128T034723Z
LAST-MODIFIED:20260128T035306Z
UID:10005182-1771869600-1771876800@nwc.org
SUMMARY:Grief Share
DESCRIPTION:
URL:https://nwc.org/event/grief-share-16/2026-02-23/
END:VEVENT
BEGIN:VEVENT
DTSTART;TZID=UTC:20260224T180000
DTEND;TZID=UTC:20260224T180000
DTSTAMP:20260425T113233
CREATED:20260127T184951Z
LAST-MODIFIED:20260128T032328Z
UID:10004831-1771956000-1771956000@nwc.org
SUMMARY:Men's Monthly Gathering
DESCRIPTION:
URL:https://nwc.org/event/mens-monthly-gathering-14/
LOCATION:Northwest Church\, 5415 N West Ave\, Fresno\, California\, 92711\, United States
CATEGORIES:Men
END:VEVENT
BEGIN:VEVENT
DTSTART;TZID=UTC:20260224T180000
DTEND;TZID=UTC:20260224T200000
DTSTAMP:20260425T113233
CREATED:20260128T035003Z
LAST-MODIFIED:20260128T035411Z
UID:10005197-1771956000-1771963200@nwc.org
SUMMARY:Divorce Care
DESCRIPTION:
URL:https://nwc.org/event/divorce-care-14/2026-02-24/
END:VEVENT
END:VCALENDAR