BEGIN:VCALENDAR
VERSION:2.0
PRODID:-//Northwest Church - ECPv6.15.20//NONSGML v1.0//EN
CALSCALE:GREGORIAN
METHOD:PUBLISH
X-WR-CALNAME:Northwest Church
X-ORIGINAL-URL:https://nwc.org
X-WR-CALDESC:Events for Northwest Church
REFRESH-INTERVAL;VALUE=DURATION:PT1H
X-Robots-Tag:noindex
X-PUBLISHED-TTL:PT1H
BEGIN:VTIMEZONE
TZID:UTC
BEGIN:STANDARD
TZOFFSETFROM:+0000
TZOFFSETTO:+0000
TZNAME:UTC
DTSTART:20250101T000000
END:STANDARD
END:VTIMEZONE
BEGIN:VEVENT
DTSTART;TZID=UTC:20260513T180000
DTEND;TZID=UTC:20260513T180000
DTSTAMP:20260425T143407
CREATED:20260127T185901Z
LAST-MODIFIED:20260128T032852Z
UID:10004884-1778695200-1778695200@nwc.org
SUMMARY:Youth Wednesday Service
DESCRIPTION:
URL:https://nwc.org/event/youth-wednesday-service-16/
LOCATION:Northwest Church\, 5415 N West Ave\, Fresno\, California\, 92711\, United States
CATEGORIES:High School
END:VEVENT
BEGIN:VEVENT
DTSTART;TZID=UTC:20260514T180000
DTEND;TZID=UTC:20260514T180000
DTSTAMP:20260425T143407
CREATED:20260127T185901Z
LAST-MODIFIED:20260128T032740Z
UID:10004885-1778781600-1778781600@nwc.org
SUMMARY:Young Adults
DESCRIPTION:
URL:https://nwc.org/event/young-adults-17/
LOCATION:Family Room\, 5415 N West Ave\, Fresno\, California\, 93711\, United States
CATEGORIES:Young Adults
END:VEVENT
BEGIN:VEVENT
DTSTART;TZID=UTC:20260516T120000
DTEND;TZID=UTC:20260516T120000
DTSTAMP:20260425T143407
CREATED:20260127T185902Z
LAST-MODIFIED:20260128T032327Z
UID:10004886-1778932800-1778932800@nwc.org
SUMMARY:Memorial Day/Armed Forces Day Lunch
DESCRIPTION:
URL:https://nwc.org/event/memorial-day-armed-forces-day-lunch/
LOCATION:Northwest Church\, 5415 N West Ave\, Fresno\, California\, 92711\, United States
CATEGORIES:Seniors
END:VEVENT
BEGIN:VEVENT
DTSTART;TZID=UTC:20260517T090000
DTEND;TZID=UTC:20260517T090000
DTSTAMP:20260425T143407
CREATED:20260128T031144Z
LAST-MODIFIED:20260128T031144Z
UID:10005063-1779008400-1779008400@nwc.org
SUMMARY:9:00am Worship Service
DESCRIPTION:
URL:https://nwc.org/event/900am-worship-service-16/
CATEGORIES:Worship
END:VEVENT
BEGIN:VEVENT
DTSTART;TZID=UTC:20260517T093000
DTEND;TZID=UTC:20260517T093000
DTSTAMP:20260425T143407
CREATED:20260127T185918Z
LAST-MODIFIED:20260128T031955Z
UID:10004887-1779010200-1779010200@nwc.org
SUMMARY:Encore
DESCRIPTION:
URL:https://nwc.org/event/encore-16/
LOCATION:Northwest Church\, 5415 N West Ave\, Fresno\, California\, 92711\, United States
CATEGORIES:Seniors
END:VEVENT
BEGIN:VEVENT
DTSTART;TZID=UTC:20260517T103000
DTEND;TZID=UTC:20260517T103000
DTSTAMP:20260425T143407
CREATED:20240909T180217Z
LAST-MODIFIED:20260128T032612Z
UID:10002231-1779013800-1779013800@nwc.org
SUMMARY:The Word Class
DESCRIPTION:
URL:https://nwc.org/event/the-word-class-125/
LOCATION:Northwest Church\, 5415 N West Ave\, Fresno\, California\, 92711\, United States
CATEGORIES:Life Groups
END:VEVENT
BEGIN:VEVENT
DTSTART;TZID=UTC:20260517T110000
DTEND;TZID=UTC:20260517T110000
DTSTAMP:20260425T143407
CREATED:20260127T185921Z
LAST-MODIFIED:20260128T032441Z
UID:10004888-1779015600-1779015600@nwc.org
SUMMARY:Students Ministry Youth Service
DESCRIPTION:
URL:https://nwc.org/event/students-ministry-youth-service-16/
LOCATION:Northwest Church\, 5415 N West Ave\, Fresno\, California\, 92711\, United States
CATEGORIES:High School
END:VEVENT
BEGIN:VEVENT
DTSTART;TZID=UTC:20260517T110000
DTEND;TZID=UTC:20260517T110000
DTSTAMP:20260425T143407
CREATED:20260128T031737Z
LAST-MODIFIED:20260128T031737Z
UID:10005115-1779015600-1779015600@nwc.org
SUMMARY:11:00am Worship Service
DESCRIPTION:
URL:https://nwc.org/event/1100am-worship-service-16/
CATEGORIES:Worship
END:VEVENT
BEGIN:VEVENT
DTSTART;TZID=UTC:20260520T180000
DTEND;TZID=UTC:20260520T180000
DTSTAMP:20260425T143407
CREATED:20260127T185922Z
LAST-MODIFIED:20260128T032853Z
UID:10004889-1779300000-1779300000@nwc.org
SUMMARY:Youth Wednesday Service
DESCRIPTION:
URL:https://nwc.org/event/youth-wednesday-service-17/
LOCATION:Northwest Church\, 5415 N West Ave\, Fresno\, California\, 92711\, United States
CATEGORIES:High School
END:VEVENT
BEGIN:VEVENT
DTSTART;TZID=UTC:20260521T180000
DTEND;TZID=UTC:20260521T180000
DTSTAMP:20260425T143407
CREATED:20260127T185922Z
LAST-MODIFIED:20260128T032742Z
UID:10004890-1779386400-1779386400@nwc.org
SUMMARY:Young Adults
DESCRIPTION:
URL:https://nwc.org/event/young-adults-18/
LOCATION:Family Room\, 5415 N West Ave\, Fresno\, California\, 93711\, United States
CATEGORIES:Young Adults
END:VEVENT
BEGIN:VEVENT
DTSTART;TZID=UTC:20260524T090000
DTEND;TZID=UTC:20260524T090000
DTSTAMP:20260425T143407
CREATED:20260128T031144Z
LAST-MODIFIED:20260128T031144Z
UID:10005064-1779613200-1779613200@nwc.org
SUMMARY:9:00am Worship Service
DESCRIPTION:
URL:https://nwc.org/event/900am-worship-service-17/
CATEGORIES:Worship
END:VEVENT
BEGIN:VEVENT
DTSTART;TZID=UTC:20260524T093000
DTEND;TZID=UTC:20260524T093000
DTSTAMP:20260425T143407
CREATED:20260127T185937Z
LAST-MODIFIED:20260128T031956Z
UID:10004891-1779615000-1779615000@nwc.org
SUMMARY:Encore
DESCRIPTION:
URL:https://nwc.org/event/encore-17/
LOCATION:Northwest Church\, 5415 N West Ave\, Fresno\, California\, 92711\, United States
CATEGORIES:Seniors
END:VEVENT
BEGIN:VEVENT
DTSTART;TZID=UTC:20260524T103000
DTEND;TZID=UTC:20260524T103000
DTSTAMP:20260425T143407
CREATED:20240909T180242Z
LAST-MODIFIED:20260128T032613Z
UID:10002233-1779618600-1779618600@nwc.org
SUMMARY:The Word Class
DESCRIPTION:
URL:https://nwc.org/event/the-word-class-126/
LOCATION:Northwest Church\, 5415 N West Ave\, Fresno\, California\, 92711\, United States
CATEGORIES:Life Groups
END:VEVENT
BEGIN:VEVENT
DTSTART;TZID=UTC:20260524T110000
DTEND;TZID=UTC:20260524T110000
DTSTAMP:20260425T143407
CREATED:20260127T185939Z
LAST-MODIFIED:20260128T032442Z
UID:10004892-1779620400-1779620400@nwc.org
SUMMARY:Students Ministry Youth Service
DESCRIPTION:
URL:https://nwc.org/event/students-ministry-youth-service-17/
LOCATION:Northwest Church\, 5415 N West Ave\, Fresno\, California\, 92711\, United States
CATEGORIES:High School
END:VEVENT
BEGIN:VEVENT
DTSTART;TZID=UTC:20260524T110000
DTEND;TZID=UTC:20260524T110000
DTSTAMP:20260425T143407
CREATED:20260128T031737Z
LAST-MODIFIED:20260128T031737Z
UID:10005116-1779620400-1779620400@nwc.org
SUMMARY:11:00am Worship Service
DESCRIPTION:
URL:https://nwc.org/event/1100am-worship-service-17/
CATEGORIES:Worship
END:VEVENT
BEGIN:VEVENT
DTSTART;TZID=UTC:20260526T180000
DTEND;TZID=UTC:20260526T180000
DTSTAMP:20260425T143407
CREATED:20260127T185939Z
LAST-MODIFIED:20260128T032341Z
UID:10004893-1779818400-1779818400@nwc.org
SUMMARY:Men's Monthly Gathering
DESCRIPTION:
URL:https://nwc.org/event/mens-monthly-gathering-17/
LOCATION:Northwest Church\, 5415 N West Ave\, Fresno\, California\, 92711\, United States
CATEGORIES:Men
END:VEVENT
BEGIN:VEVENT
DTSTART;TZID=UTC:20260527T180000
DTEND;TZID=UTC:20260527T180000
DTSTAMP:20260425T143407
CREATED:20260127T185954Z
LAST-MODIFIED:20260128T032855Z
UID:10004894-1779904800-1779904800@nwc.org
SUMMARY:Youth Wednesday Service
DESCRIPTION:
URL:https://nwc.org/event/youth-wednesday-service-18/
LOCATION:Northwest Church\, 5415 N West Ave\, Fresno\, California\, 92711\, United States
CATEGORIES:High School
END:VEVENT
BEGIN:VEVENT
DTSTART;TZID=UTC:20260528T180000
DTEND;TZID=UTC:20260528T180000
DTSTAMP:20260425T143407
CREATED:20260127T185957Z
LAST-MODIFIED:20260128T032742Z
UID:10004895-1779991200-1779991200@nwc.org
SUMMARY:Young Adults
DESCRIPTION:
URL:https://nwc.org/event/young-adults-19/
LOCATION:Family Room\, 5415 N West Ave\, Fresno\, California\, 93711\, United States
CATEGORIES:Young Adults
END:VEVENT
BEGIN:VEVENT
DTSTART;TZID=UTC:20260531T090000
DTEND;TZID=UTC:20260531T090000
DTSTAMP:20260425T143407
CREATED:20260128T031145Z
LAST-MODIFIED:20260128T031145Z
UID:10005065-1780218000-1780218000@nwc.org
SUMMARY:9:00am Worship Service
DESCRIPTION:
URL:https://nwc.org/event/900am-worship-service-18/
CATEGORIES:Worship
END:VEVENT
BEGIN:VEVENT
DTSTART;TZID=UTC:20260531T093000
DTEND;TZID=UTC:20260531T093000
DTSTAMP:20260425T143407
CREATED:20260127T185958Z
LAST-MODIFIED:20260128T031956Z
UID:10004896-1780219800-1780219800@nwc.org
SUMMARY:Encore
DESCRIPTION:
URL:https://nwc.org/event/encore-18/
LOCATION:Northwest Church\, 5415 N West Ave\, Fresno\, California\, 92711\, United States
CATEGORIES:Seniors
END:VEVENT
BEGIN:VEVENT
DTSTART;TZID=UTC:20260531T103000
DTEND;TZID=UTC:20260531T103000
DTSTAMP:20260425T143407
CREATED:20240909T180330Z
LAST-MODIFIED:20260128T032622Z
UID:10002235-1780223400-1780223400@nwc.org
SUMMARY:The Word Class
DESCRIPTION:
URL:https://nwc.org/event/the-word-class-127/
LOCATION:Northwest Church\, 5415 N West Ave\, Fresno\, California\, 92711\, United States
CATEGORIES:Life Groups
END:VEVENT
BEGIN:VEVENT
DTSTART;TZID=UTC:20260531T110000
DTEND;TZID=UTC:20260531T110000
DTSTAMP:20260425T143407
CREATED:20260127T190013Z
LAST-MODIFIED:20260128T032442Z
UID:10004897-1780225200-1780225200@nwc.org
SUMMARY:Students Ministry Youth Service
DESCRIPTION:
URL:https://nwc.org/event/students-ministry-youth-service-18/
LOCATION:Northwest Church\, 5415 N West Ave\, Fresno\, California\, 92711\, United States
CATEGORIES:High School
END:VEVENT
BEGIN:VEVENT
DTSTART;TZID=UTC:20260531T110000
DTEND;TZID=UTC:20260531T110000
DTSTAMP:20260425T143407
CREATED:20260128T031749Z
LAST-MODIFIED:20260128T031749Z
UID:10005117-1780225200-1780225200@nwc.org
SUMMARY:11:00am Worship Service
DESCRIPTION:
URL:https://nwc.org/event/1100am-worship-service-18/
CATEGORIES:Worship
END:VEVENT
BEGIN:VEVENT
DTSTART;TZID=UTC:20260603T180000
DTEND;TZID=UTC:20260603T180000
DTSTAMP:20260425T143407
CREATED:20260127T190015Z
LAST-MODIFIED:20260128T032855Z
UID:10004898-1780509600-1780509600@nwc.org
SUMMARY:Youth Wednesday Service
DESCRIPTION:
URL:https://nwc.org/event/youth-wednesday-service-19/
LOCATION:Northwest Church\, 5415 N West Ave\, Fresno\, California\, 92711\, United States
CATEGORIES:High School
END:VEVENT
BEGIN:VEVENT
DTSTART;TZID=UTC:20260604T180000
DTEND;TZID=UTC:20260604T180000
DTSTAMP:20260425T143407
CREATED:20260127T190015Z
LAST-MODIFIED:20260128T032743Z
UID:10004899-1780596000-1780596000@nwc.org
SUMMARY:Young Adults
DESCRIPTION:
URL:https://nwc.org/event/young-adults-20/
LOCATION:Family Room\, 5415 N West Ave\, Fresno\, California\, 93711\, United States
CATEGORIES:Young Adults
END:VEVENT
BEGIN:VEVENT
DTSTART;TZID=UTC:20260607T090000
DTEND;TZID=UTC:20260607T090000
DTSTAMP:20260425T143407
CREATED:20260128T031145Z
LAST-MODIFIED:20260128T031145Z
UID:10005066-1780822800-1780822800@nwc.org
SUMMARY:9:00am Worship Service
DESCRIPTION:
URL:https://nwc.org/event/900am-worship-service-19/
CATEGORIES:Worship
END:VEVENT
BEGIN:VEVENT
DTSTART;TZID=UTC:20260607T093000
DTEND;TZID=UTC:20260607T093000
DTSTAMP:20260425T143407
CREATED:20260127T190017Z
LAST-MODIFIED:20260128T031956Z
UID:10004900-1780824600-1780824600@nwc.org
SUMMARY:Encore
DESCRIPTION:
URL:https://nwc.org/event/encore-19/
LOCATION:Northwest Church\, 5415 N West Ave\, Fresno\, California\, 92711\, United States
CATEGORIES:Seniors
END:VEVENT
BEGIN:VEVENT
DTSTART;TZID=UTC:20260607T103000
DTEND;TZID=UTC:20260607T103000
DTSTAMP:20260425T143407
CREATED:20240909T180532Z
LAST-MODIFIED:20260128T032624Z
UID:10002237-1780828200-1780828200@nwc.org
SUMMARY:The Word Class
DESCRIPTION:
URL:https://nwc.org/event/the-word-class-128/
LOCATION:Northwest Church\, 5415 N West Ave\, Fresno\, California\, 92711\, United States
CATEGORIES:Life Groups
END:VEVENT
BEGIN:VEVENT
DTSTART;TZID=UTC:20260607T110000
DTEND;TZID=UTC:20260607T110000
DTSTAMP:20260425T143407
CREATED:20260127T190031Z
LAST-MODIFIED:20260128T032442Z
UID:10004901-1780830000-1780830000@nwc.org
SUMMARY:Students Ministry Youth Service
DESCRIPTION:
URL:https://nwc.org/event/students-ministry-youth-service-19/
LOCATION:Northwest Church\, 5415 N West Ave\, Fresno\, California\, 92711\, United States
CATEGORIES:High School
END:VEVENT
BEGIN:VEVENT
DTSTART;TZID=UTC:20260607T110000
DTEND;TZID=UTC:20260607T110000
DTSTAMP:20260425T143407
CREATED:20260128T031751Z
LAST-MODIFIED:20260128T031751Z
UID:10005118-1780830000-1780830000@nwc.org
SUMMARY:11:00am Worship Service
DESCRIPTION:
URL:https://nwc.org/event/1100am-worship-service-19/
CATEGORIES:Worship
END:VEVENT
END:VCALENDAR