BEGIN:VCALENDAR
VERSION:2.0
PRODID:-//Northwest Church - ECPv6.15.20//NONSGML v1.0//EN
CALSCALE:GREGORIAN
METHOD:PUBLISH
X-WR-CALNAME:Northwest Church
X-ORIGINAL-URL:https://nwc.org
X-WR-CALDESC:Events for Northwest Church
REFRESH-INTERVAL;VALUE=DURATION:PT1H
X-Robots-Tag:noindex
X-PUBLISHED-TTL:PT1H
BEGIN:VTIMEZONE
TZID:UTC
BEGIN:STANDARD
TZOFFSETFROM:+0000
TZOFFSETTO:+0000
TZNAME:UTC
DTSTART:19690101T000000
END:STANDARD
END:VTIMEZONE
BEGIN:VEVENT
DTSTART;TZID=UTC:20260201T103000
DTEND;TZID=UTC:20260201T103000
DTSTAMP:20260425T103127
CREATED:20240506T203832Z
LAST-MODIFIED:20260128T032546Z
UID:10000407-1769941800-1769941800@nwc.org
SUMMARY:The Word Class
DESCRIPTION:
URL:https://nwc.org/event/the-word-class-110/
LOCATION:Northwest Church\, 5415 N West Ave\, Fresno\, California\, 92711\, United States
CATEGORIES:Life Groups
END:VEVENT
BEGIN:VEVENT
DTSTART;TZID=UTC:20260201T093000
DTEND;TZID=UTC:20260201T093000
DTSTAMP:20260425T103127
CREATED:20260127T184649Z
LAST-MODIFIED:20260128T031924Z
UID:10004814-1769938200-1769938200@nwc.org
SUMMARY:Encore
DESCRIPTION:
URL:https://nwc.org/event/encore/
LOCATION:Northwest Church\, 5415 N West Ave\, Fresno\, California\, 92711\, United States
CATEGORIES:Seniors
END:VEVENT
BEGIN:VEVENT
DTSTART;TZID=UTC:20260201T090000
DTEND;TZID=UTC:20260201T090000
DTSTAMP:20260425T103127
CREATED:20260128T031120Z
LAST-MODIFIED:20260128T031120Z
UID:10005048-1769936400-1769936400@nwc.org
SUMMARY:9:00am Worship Service
DESCRIPTION:
URL:https://nwc.org/event/900am-worship-service/
CATEGORIES:Worship
END:VEVENT
BEGIN:VEVENT
DTSTART;TZID=UTC:20260129T180000
DTEND;TZID=UTC:20260129T180000
DTSTAMP:20260425T103127
CREATED:20260127T184647Z
LAST-MODIFIED:20260128T032720Z
UID:10004813-1769709600-1769709600@nwc.org
SUMMARY:Young Adults
DESCRIPTION:
URL:https://nwc.org/event/young-adults-2/
LOCATION:Family Room\, 5415 N West Ave\, Fresno\, California\, 93711\, United States
CATEGORIES:Young Adults
END:VEVENT
BEGIN:VEVENT
DTSTART;TZID=UTC:20260128T181500
DTEND;TZID=UTC:20260128T181500
DTSTAMP:20260425T103127
CREATED:20260127T184647Z
LAST-MODIFIED:20260128T032400Z
UID:10004812-1769624100-1769624100@nwc.org
SUMMARY:Rooted Winter 2026
DESCRIPTION:
URL:https://nwc.org/event/rooted-winter-2026/
LOCATION:Family Room\, 5415 N West Ave\, Fresno\, California\, 93711\, United States
CATEGORIES:Life Groups
END:VEVENT
BEGIN:VEVENT
DTSTART;TZID=UTC:20260128T180000
DTEND;TZID=UTC:20260128T180000
DTSTAMP:20260425T103127
CREATED:20260127T184646Z
LAST-MODIFIED:20260128T032832Z
UID:10004811-1769623200-1769623200@nwc.org
SUMMARY:Youth Wednesday Service
DESCRIPTION:
URL:https://nwc.org/event/youth-wednesday-service/
LOCATION:Northwest Church\, 5415 N West Ave\, Fresno\, California\, 92711\, United States
CATEGORIES:High School
END:VEVENT
BEGIN:VEVENT
DTSTART;TZID=UTC:20260127T180000
DTEND;TZID=UTC:20260127T180000
DTSTAMP:20260425T103127
CREATED:20260127T184644Z
LAST-MODIFIED:20260128T032327Z
UID:10004810-1769536800-1769536800@nwc.org
SUMMARY:Men's Monthly Gathering
DESCRIPTION:
URL:https://nwc.org/event/mens-monthly-gathering-13/
LOCATION:Northwest Church\, 5415 N West Ave\, Fresno\, California\, 92711\, United States
CATEGORIES:Men
END:VEVENT
BEGIN:VEVENT
DTSTART;TZID=UTC:20240804T103000
DTEND;TZID=UTC:20240804T103000
DTSTAMP:20260425T103127
CREATED:20240506T193105Z
LAST-MODIFIED:20240820T221543Z
UID:10000279-1722767400-1722767400@nwc.org
SUMMARY:The Word Class
DESCRIPTION:
URL:https://nwc.org/event/the-word-class-32/
END:VEVENT
BEGIN:VEVENT
DTSTART;TZID=UTC:20240501T183000
DTEND;TZID=UTC:20240501T183000
DTSTAMP:20260425T103127
CREATED:20240820T200906Z
LAST-MODIFIED:20240820T200906Z
UID:10001052-1714588200-1714588200@nwc.org
SUMMARY:Students Wednesday Service
DESCRIPTION:
URL:https://nwc.org/event/students-wednesday-service-66/
END:VEVENT
BEGIN:VEVENT
DTSTART;TZID=UTC:20240424T183000
DTEND;TZID=UTC:20240424T183000
DTSTAMP:20260425T103127
CREATED:20240820T200705Z
LAST-MODIFIED:20240820T200705Z
UID:10001050-1713983400-1713983400@nwc.org
SUMMARY:Students Wednesday Service
DESCRIPTION:
URL:https://nwc.org/event/students-wednesday-service-65/
END:VEVENT
BEGIN:VEVENT
DTSTART;TZID=UTC:20240417T183000
DTEND;TZID=UTC:20240417T183000
DTSTAMP:20260425T103127
CREATED:20240820T200307Z
LAST-MODIFIED:20240820T200307Z
UID:10001048-1713378600-1713378600@nwc.org
SUMMARY:Students Wednesday Service
DESCRIPTION:
URL:https://nwc.org/event/students-wednesday-service-64/
END:VEVENT
BEGIN:VEVENT
DTSTART;TZID=UTC:20240410T183000
DTEND;TZID=UTC:20240410T183000
DTSTAMP:20260425T103127
CREATED:20240820T195136Z
LAST-MODIFIED:20240820T195136Z
UID:10001046-1712773800-1712773800@nwc.org
SUMMARY:Students Wednesday Service
DESCRIPTION:
URL:https://nwc.org/event/students-wednesday-service-63/
END:VEVENT
BEGIN:VEVENT
DTSTART;TZID=UTC:20240403T183000
DTEND;TZID=UTC:20240403T183000
DTSTAMP:20260425T103127
CREATED:20240820T194733Z
LAST-MODIFIED:20240820T194733Z
UID:10001044-1712169000-1712169000@nwc.org
SUMMARY:Students Wednesday Service
DESCRIPTION:
URL:https://nwc.org/event/students-wednesday-service-62/
END:VEVENT
BEGIN:VEVENT
DTSTART;TZID=UTC:20240320T183000
DTEND;TZID=UTC:20240320T183000
DTSTAMP:20260425T103127
CREATED:20240820T194506Z
LAST-MODIFIED:20240820T194506Z
UID:10001041-1710959400-1710959400@nwc.org
SUMMARY:Students Wednesday Service
DESCRIPTION:
URL:https://nwc.org/event/students-wednesday-service-61/
END:VEVENT
BEGIN:VEVENT
DTSTART;TZID=UTC:20240313T183000
DTEND;TZID=UTC:20240313T183000
DTSTAMP:20260425T103127
CREATED:20240820T194438Z
LAST-MODIFIED:20240820T194438Z
UID:10001039-1710354600-1710354600@nwc.org
SUMMARY:Students Wednesday Service
DESCRIPTION:
URL:https://nwc.org/event/students-wednesday-service-60/
END:VEVENT
BEGIN:VEVENT
DTSTART;TZID=UTC:20240306T183000
DTEND;TZID=UTC:20240306T183000
DTSTAMP:20260425T103127
CREATED:20240820T194409Z
LAST-MODIFIED:20240820T194409Z
UID:10001037-1709749800-1709749800@nwc.org
SUMMARY:Students Wednesday Service
DESCRIPTION:
URL:https://nwc.org/event/students-wednesday-service-59/
END:VEVENT
BEGIN:VEVENT
DTSTART;TZID=UTC:20240228T183000
DTEND;TZID=UTC:20240228T183000
DTSTAMP:20260425T103127
CREATED:20240820T194336Z
LAST-MODIFIED:20240820T194336Z
UID:10001035-1709145000-1709145000@nwc.org
SUMMARY:Students Wednesday Service
DESCRIPTION:
URL:https://nwc.org/event/students-wednesday-service-58/
END:VEVENT
BEGIN:VEVENT
DTSTART;TZID=UTC:20240221T183000
DTEND;TZID=UTC:20240221T183000
DTSTAMP:20260425T103127
CREATED:20240820T194309Z
LAST-MODIFIED:20240820T194309Z
UID:10001033-1708540200-1708540200@nwc.org
SUMMARY:Students Wednesday Service
DESCRIPTION:
URL:https://nwc.org/event/students-wednesday-service-57/
END:VEVENT
BEGIN:VEVENT
DTSTART;TZID=UTC:20240214T183000
DTEND;TZID=UTC:20240214T183000
DTSTAMP:20260425T103127
CREATED:20240820T194251Z
LAST-MODIFIED:20240820T194251Z
UID:10001031-1707935400-1707935400@nwc.org
SUMMARY:Students Wednesday Service
DESCRIPTION:
URL:https://nwc.org/event/students-wednesday-service-56/
END:VEVENT
BEGIN:VEVENT
DTSTART;TZID=UTC:20240207T183000
DTEND;TZID=UTC:20240207T183000
DTSTAMP:20260425T103127
CREATED:20240820T194219Z
LAST-MODIFIED:20240820T194219Z
UID:10001029-1707330600-1707330600@nwc.org
SUMMARY:Students Wednesday Service
DESCRIPTION:
URL:https://nwc.org/event/students-wednesday-service-55/
END:VEVENT
BEGIN:VEVENT
DTSTART;TZID=UTC:20240131T183000
DTEND;TZID=UTC:20240131T183000
DTSTAMP:20260425T103127
CREATED:20240820T194149Z
LAST-MODIFIED:20240820T194149Z
UID:10001027-1706725800-1706725800@nwc.org
SUMMARY:Students Wednesday Service
DESCRIPTION:
URL:https://nwc.org/event/students-wednesday-service-54/
END:VEVENT
BEGIN:VEVENT
DTSTART;TZID=UTC:20240124T183000
DTEND;TZID=UTC:20240124T183000
DTSTAMP:20260425T103127
CREATED:20240820T194120Z
LAST-MODIFIED:20240820T194120Z
UID:10001025-1706121000-1706121000@nwc.org
SUMMARY:Students Wednesday Service
DESCRIPTION:
URL:https://nwc.org/event/students-wednesday-service-42/
END:VEVENT
BEGIN:VEVENT
DTSTART;TZID=UTC:20240107T103000
DTEND;TZID=UTC:20240107T103000
DTSTAMP:20260425T103127
CREATED:20240506T184911Z
LAST-MODIFIED:20240820T194024Z
UID:10000166-1704623400-1704623400@nwc.org
SUMMARY:The Word Class
DESCRIPTION:
URL:https://nwc.org/event/the-word-class-2/
END:VEVENT
BEGIN:VEVENT
DTSTART;TZID=UTC:20260425T103127
DTEND;TZID=UTC:20260425T103127
DTSTAMP:20260425T103127
CREATED:20260127T190237Z
LAST-MODIFIED:20260128T032832Z
UID:10004936-0-0@nwc.org
SUMMARY:Youth at Hume Lake
DESCRIPTION:
URL:https://nwc.org/event/youth-at-hume-lake/
LOCATION:Family Room\, 5415 N West Ave\, Fresno\, California\, 93711\, United States
CATEGORIES:High School
END:VEVENT
BEGIN:VEVENT
DTSTART;TZID=UTC:20260425T103127
DTEND;TZID=UTC:20260425T103127
DTSTAMP:20260425T103127
CREATED:20260127T184918Z
LAST-MODIFIED:20260128T032358Z
UID:10004828-0-0@nwc.org
SUMMARY:Men's Retreat
DESCRIPTION:
URL:https://nwc.org/event/mens-retreat/
LOCATION:Northwest Church\, 5415 N West Ave\, Fresno\, California\, 92711\, United States
CATEGORIES:Men
END:VEVENT
END:VCALENDAR