BEGIN:VCALENDAR
VERSION:2.0
PRODID:-//Northwest Church - ECPv6.15.20//NONSGML v1.0//EN
CALSCALE:GREGORIAN
METHOD:PUBLISH
X-ORIGINAL-URL:https://nwc.org
X-WR-CALDESC:Events for Northwest Church
REFRESH-INTERVAL;VALUE=DURATION:PT1H
X-Robots-Tag:noindex
X-PUBLISHED-TTL:PT1H
BEGIN:VTIMEZONE
TZID:UTC
BEGIN:STANDARD
TZOFFSETFROM:+0000
TZOFFSETTO:+0000
TZNAME:UTC
DTSTART:20250101T000000
END:STANDARD
END:VTIMEZONE
BEGIN:VEVENT
DTSTART;TZID=UTC:20261220T110000
DTEND;TZID=UTC:20261220T110000
DTSTAMP:20260425T035600
CREATED:20260128T031900Z
LAST-MODIFIED:20260128T031900Z
UID:10005146-1797764400-1797764400@nwc.org
SUMMARY:11:00am Worship Service
DESCRIPTION:
URL:https://nwc.org/event/1100am-worship-service-47/
CATEGORIES:Worship
END:VEVENT
BEGIN:VEVENT
DTSTART;TZID=UTC:20261227T090000
DTEND;TZID=UTC:20261227T090000
DTSTAMP:20260425T035600
CREATED:20260128T031637Z
LAST-MODIFIED:20260128T031637Z
UID:10005095-1798362000-1798362000@nwc.org
SUMMARY:9:00am Worship Service
DESCRIPTION:
URL:https://nwc.org/event/900am-worship-service-48/
CATEGORIES:Worship
END:VEVENT
BEGIN:VEVENT
DTSTART;TZID=UTC:20261227T110000
DTEND;TZID=UTC:20261227T110000
DTSTAMP:20260425T035600
CREATED:20260128T031906Z
LAST-MODIFIED:20260128T031906Z
UID:10005147-1798369200-1798369200@nwc.org
SUMMARY:11:00am Worship Service
DESCRIPTION:
URL:https://nwc.org/event/1100am-worship-service-48/
CATEGORIES:Worship
END:VEVENT
BEGIN:VEVENT
DTSTART;TZID=UTC:20270103T090000
DTEND;TZID=UTC:20270103T090000
DTSTAMP:20260425T035600
CREATED:20260128T031637Z
LAST-MODIFIED:20260128T031637Z
UID:10005096-1798966800-1798966800@nwc.org
SUMMARY:9:00am Worship Service
DESCRIPTION:
URL:https://nwc.org/event/900am-worship-service-49/
CATEGORIES:Worship
END:VEVENT
BEGIN:VEVENT
DTSTART;TZID=UTC:20270103T110000
DTEND;TZID=UTC:20270103T110000
DTSTAMP:20260425T035600
CREATED:20260128T031908Z
LAST-MODIFIED:20260128T031908Z
UID:10005148-1798974000-1798974000@nwc.org
SUMMARY:11:00am Worship Service
DESCRIPTION:
URL:https://nwc.org/event/1100am-worship-service-49/
CATEGORIES:Worship
END:VEVENT
BEGIN:VEVENT
DTSTART;TZID=UTC:20270110T090000
DTEND;TZID=UTC:20270110T090000
DTSTAMP:20260425T035600
CREATED:20260128T031649Z
LAST-MODIFIED:20260128T031649Z
UID:10005097-1799571600-1799571600@nwc.org
SUMMARY:9:00am Worship Service
DESCRIPTION:
URL:https://nwc.org/event/900am-worship-service-50/
CATEGORIES:Worship
END:VEVENT
BEGIN:VEVENT
DTSTART;TZID=UTC:20270110T110000
DTEND;TZID=UTC:20270110T110000
DTSTAMP:20260425T035600
CREATED:20260128T031908Z
LAST-MODIFIED:20260128T031908Z
UID:10005149-1799578800-1799578800@nwc.org
SUMMARY:11:00am Worship Service
DESCRIPTION:
URL:https://nwc.org/event/1100am-worship-service-50/
CATEGORIES:Worship
END:VEVENT
BEGIN:VEVENT
DTSTART;TZID=UTC:20270117T090000
DTEND;TZID=UTC:20270117T090000
DTSTAMP:20260425T035600
CREATED:20260128T031651Z
LAST-MODIFIED:20260128T031651Z
UID:10005098-1800176400-1800176400@nwc.org
SUMMARY:9:00am Worship Service
DESCRIPTION:
URL:https://nwc.org/event/900am-worship-service-51/
CATEGORIES:Worship
END:VEVENT
BEGIN:VEVENT
DTSTART;TZID=UTC:20270117T110000
DTEND;TZID=UTC:20270117T110000
DTSTAMP:20260425T035600
CREATED:20260128T031908Z
LAST-MODIFIED:20260128T031908Z
UID:10005150-1800183600-1800183600@nwc.org
SUMMARY:11:00am Worship Service
DESCRIPTION:
URL:https://nwc.org/event/1100am-worship-service-51/
CATEGORIES:Worship
END:VEVENT
BEGIN:VEVENT
DTSTART;TZID=UTC:20270124T090000
DTEND;TZID=UTC:20270124T090000
DTSTAMP:20260425T035600
CREATED:20260128T031651Z
LAST-MODIFIED:20260128T031651Z
UID:10005099-1800781200-1800781200@nwc.org
SUMMARY:9:00am Worship Service
DESCRIPTION:
URL:https://nwc.org/event/900am-worship-service-52/
CATEGORIES:Worship
END:VEVENT
BEGIN:VEVENT
DTSTART;TZID=UTC:20270124T110000
DTEND;TZID=UTC:20270124T110000
DTSTAMP:20260425T035600
CREATED:20260128T031909Z
LAST-MODIFIED:20260128T031909Z
UID:10005151-1800788400-1800788400@nwc.org
SUMMARY:11:00am Worship Service
DESCRIPTION:
URL:https://nwc.org/event/1100am-worship-service-52/
CATEGORIES:Worship
END:VEVENT
END:VCALENDAR