BEGIN:VCALENDAR
VERSION:2.0
PRODID:-//Northwest Church - ECPv6.15.20//NONSGML v1.0//EN
CALSCALE:GREGORIAN
METHOD:PUBLISH
X-WR-CALNAME:Northwest Church
X-ORIGINAL-URL:https://nwc.org
X-WR-CALDESC:Events for Northwest Church
REFRESH-INTERVAL;VALUE=DURATION:PT1H
X-Robots-Tag:noindex
X-PUBLISHED-TTL:PT1H
BEGIN:VTIMEZONE
TZID:UTC
BEGIN:STANDARD
TZOFFSETFROM:+0000
TZOFFSETTO:+0000
TZNAME:UTC
DTSTART:20250101T000000
END:STANDARD
END:VTIMEZONE
BEGIN:VEVENT
DTSTART;TZID=UTC:20260531T110000
DTEND;TZID=UTC:20260531T110000
DTSTAMP:20260424T213115
CREATED:20260128T031749Z
LAST-MODIFIED:20260128T031749Z
UID:10005117-1780225200-1780225200@nwc.org
SUMMARY:11:00am Worship Service
DESCRIPTION:
URL:https://nwc.org/event/1100am-worship-service-18/
CATEGORIES:Worship
END:VEVENT
BEGIN:VEVENT
DTSTART;TZID=UTC:20260607T090000
DTEND;TZID=UTC:20260607T090000
DTSTAMP:20260424T213115
CREATED:20260128T031145Z
LAST-MODIFIED:20260128T031145Z
UID:10005066-1780822800-1780822800@nwc.org
SUMMARY:9:00am Worship Service
DESCRIPTION:
URL:https://nwc.org/event/900am-worship-service-19/
CATEGORIES:Worship
END:VEVENT
BEGIN:VEVENT
DTSTART;TZID=UTC:20260607T110000
DTEND;TZID=UTC:20260607T110000
DTSTAMP:20260424T213115
CREATED:20260128T031751Z
LAST-MODIFIED:20260128T031751Z
UID:10005118-1780830000-1780830000@nwc.org
SUMMARY:11:00am Worship Service
DESCRIPTION:
URL:https://nwc.org/event/1100am-worship-service-19/
CATEGORIES:Worship
END:VEVENT
BEGIN:VEVENT
DTSTART;TZID=UTC:20260614T090000
DTEND;TZID=UTC:20260614T090000
DTSTAMP:20260424T213115
CREATED:20260128T031149Z
LAST-MODIFIED:20260128T031149Z
UID:10005067-1781427600-1781427600@nwc.org
SUMMARY:9:00am Worship Service
DESCRIPTION:
URL:https://nwc.org/event/900am-worship-service-20/
CATEGORIES:Worship
END:VEVENT
BEGIN:VEVENT
DTSTART;TZID=UTC:20260614T110000
DTEND;TZID=UTC:20260614T110000
DTSTAMP:20260424T213115
CREATED:20260128T031751Z
LAST-MODIFIED:20260128T031751Z
UID:10005119-1781434800-1781434800@nwc.org
SUMMARY:11:00am Worship Service
DESCRIPTION:
URL:https://nwc.org/event/1100am-worship-service-20/
CATEGORIES:Worship
END:VEVENT
BEGIN:VEVENT
DTSTART;TZID=UTC:20260621T090000
DTEND;TZID=UTC:20260621T090000
DTSTAMP:20260424T213115
CREATED:20260128T031151Z
LAST-MODIFIED:20260128T031151Z
UID:10005068-1782032400-1782032400@nwc.org
SUMMARY:9:00am Worship Service
DESCRIPTION:
URL:https://nwc.org/event/900am-worship-service-21/
CATEGORIES:Worship
END:VEVENT
BEGIN:VEVENT
DTSTART;TZID=UTC:20260621T110000
DTEND;TZID=UTC:20260621T110000
DTSTAMP:20260424T213115
CREATED:20260128T031752Z
LAST-MODIFIED:20260128T031752Z
UID:10005120-1782039600-1782039600@nwc.org
SUMMARY:11:00am Worship Service
DESCRIPTION:
URL:https://nwc.org/event/1100am-worship-service-21/
CATEGORIES:Worship
END:VEVENT
BEGIN:VEVENT
DTSTART;TZID=UTC:20260628T090000
DTEND;TZID=UTC:20260628T090000
DTSTAMP:20260424T213115
CREATED:20260128T031151Z
LAST-MODIFIED:20260128T031151Z
UID:10005069-1782637200-1782637200@nwc.org
SUMMARY:9:00am Worship Service
DESCRIPTION:
URL:https://nwc.org/event/900am-worship-service-22/
CATEGORIES:Worship
END:VEVENT
BEGIN:VEVENT
DTSTART;TZID=UTC:20260628T110000
DTEND;TZID=UTC:20260628T110000
DTSTAMP:20260424T213115
CREATED:20260128T031752Z
LAST-MODIFIED:20260128T031752Z
UID:10005121-1782644400-1782644400@nwc.org
SUMMARY:11:00am Worship Service
DESCRIPTION:
URL:https://nwc.org/event/1100am-worship-service-22/
CATEGORIES:Worship
END:VEVENT
BEGIN:VEVENT
DTSTART;TZID=UTC:20260705T090000
DTEND;TZID=UTC:20260705T090000
DTSTAMP:20260424T213115
CREATED:20260128T031152Z
LAST-MODIFIED:20260128T031152Z
UID:10005070-1783242000-1783242000@nwc.org
SUMMARY:9:00am Worship Service
DESCRIPTION:
URL:https://nwc.org/event/900am-worship-service-23/
CATEGORIES:Worship
END:VEVENT
BEGIN:VEVENT
DTSTART;TZID=UTC:20260705T110000
DTEND;TZID=UTC:20260705T110000
DTSTAMP:20260424T213115
CREATED:20260128T031804Z
LAST-MODIFIED:20260128T031804Z
UID:10005122-1783249200-1783249200@nwc.org
SUMMARY:11:00am Worship Service
DESCRIPTION:
URL:https://nwc.org/event/1100am-worship-service-23/
CATEGORIES:Worship
END:VEVENT
BEGIN:VEVENT
DTSTART;TZID=UTC:20260712T090000
DTEND;TZID=UTC:20260712T090000
DTSTAMP:20260424T213115
CREATED:20260128T031152Z
LAST-MODIFIED:20260128T031152Z
UID:10005071-1783846800-1783846800@nwc.org
SUMMARY:9:00am Worship Service
DESCRIPTION:
URL:https://nwc.org/event/900am-worship-service-24/
CATEGORIES:Worship
END:VEVENT
BEGIN:VEVENT
DTSTART;TZID=UTC:20260712T110000
DTEND;TZID=UTC:20260712T110000
DTSTAMP:20260424T213115
CREATED:20260128T031806Z
LAST-MODIFIED:20260128T031806Z
UID:10005123-1783854000-1783854000@nwc.org
SUMMARY:11:00am Worship Service
DESCRIPTION:
URL:https://nwc.org/event/1100am-worship-service-24/
CATEGORIES:Worship
END:VEVENT
BEGIN:VEVENT
DTSTART;TZID=UTC:20260719T090000
DTEND;TZID=UTC:20260719T090000
DTSTAMP:20260424T213115
CREATED:20260128T031349Z
LAST-MODIFIED:20260128T031349Z
UID:10005072-1784451600-1784451600@nwc.org
SUMMARY:9:00am Worship Service
DESCRIPTION:
URL:https://nwc.org/event/900am-worship-service-25/
CATEGORIES:Worship
END:VEVENT
BEGIN:VEVENT
DTSTART;TZID=UTC:20260719T110000
DTEND;TZID=UTC:20260719T110000
DTSTAMP:20260424T213115
CREATED:20260128T031806Z
LAST-MODIFIED:20260128T031806Z
UID:10005124-1784458800-1784458800@nwc.org
SUMMARY:11:00am Worship Service
DESCRIPTION:
URL:https://nwc.org/event/1100am-worship-service-25/
CATEGORIES:Worship
END:VEVENT
BEGIN:VEVENT
DTSTART;TZID=UTC:20260726T090000
DTEND;TZID=UTC:20260726T090000
DTSTAMP:20260424T213115
CREATED:20260128T031351Z
LAST-MODIFIED:20260128T031351Z
UID:10005073-1785056400-1785056400@nwc.org
SUMMARY:9:00am Worship Service
DESCRIPTION:
URL:https://nwc.org/event/900am-worship-service-26/
CATEGORIES:Worship
END:VEVENT
BEGIN:VEVENT
DTSTART;TZID=UTC:20260726T110000
DTEND;TZID=UTC:20260726T110000
DTSTAMP:20260424T213115
CREATED:20260128T031807Z
LAST-MODIFIED:20260128T031807Z
UID:10005125-1785063600-1785063600@nwc.org
SUMMARY:11:00am Worship Service
DESCRIPTION:
URL:https://nwc.org/event/1100am-worship-service-26/
CATEGORIES:Worship
END:VEVENT
BEGIN:VEVENT
DTSTART;TZID=UTC:20260802T090000
DTEND;TZID=UTC:20260802T090000
DTSTAMP:20260424T213115
CREATED:20260128T031352Z
LAST-MODIFIED:20260128T031352Z
UID:10005074-1785661200-1785661200@nwc.org
SUMMARY:9:00am Worship Service
DESCRIPTION:
URL:https://nwc.org/event/900am-worship-service-27/
CATEGORIES:Worship
END:VEVENT
BEGIN:VEVENT
DTSTART;TZID=UTC:20260802T110000
DTEND;TZID=UTC:20260802T110000
DTSTAMP:20260424T213115
CREATED:20260128T031807Z
LAST-MODIFIED:20260128T031807Z
UID:10005126-1785668400-1785668400@nwc.org
SUMMARY:11:00am Worship Service
DESCRIPTION:
URL:https://nwc.org/event/1100am-worship-service-27/
CATEGORIES:Worship
END:VEVENT
BEGIN:VEVENT
DTSTART;TZID=UTC:20260805T183000
DTEND;TZID=UTC:20260805T183000
DTSTAMP:20260424T213115
CREATED:20260127T190248Z
LAST-MODIFIED:20260128T032716Z
UID:10004940-1785954600-1785954600@nwc.org
SUMMARY:Worship Night
DESCRIPTION:
URL:https://nwc.org/event/worship-night-9/
LOCATION:Northwest Church\, 5415 N West Ave\, Fresno\, California\, 92711\, United States
CATEGORIES:Worship
END:VEVENT
BEGIN:VEVENT
DTSTART;TZID=UTC:20260809T090000
DTEND;TZID=UTC:20260809T090000
DTSTAMP:20260424T213115
CREATED:20260128T031352Z
LAST-MODIFIED:20260128T031352Z
UID:10005075-1786266000-1786266000@nwc.org
SUMMARY:9:00am Worship Service
DESCRIPTION:
URL:https://nwc.org/event/900am-worship-service-28/
CATEGORIES:Worship
END:VEVENT
BEGIN:VEVENT
DTSTART;TZID=UTC:20260809T110000
DTEND;TZID=UTC:20260809T110000
DTSTAMP:20260424T213115
CREATED:20260128T031819Z
LAST-MODIFIED:20260128T031819Z
UID:10005127-1786273200-1786273200@nwc.org
SUMMARY:11:00am Worship Service
DESCRIPTION:
URL:https://nwc.org/event/1100am-worship-service-28/
CATEGORIES:Worship
END:VEVENT
BEGIN:VEVENT
DTSTART;TZID=UTC:20260816T090000
DTEND;TZID=UTC:20260816T090000
DTSTAMP:20260424T213115
CREATED:20260128T031352Z
LAST-MODIFIED:20260128T031352Z
UID:10005076-1786870800-1786870800@nwc.org
SUMMARY:9:00am Worship Service
DESCRIPTION:
URL:https://nwc.org/event/900am-worship-service-29/
CATEGORIES:Worship
END:VEVENT
BEGIN:VEVENT
DTSTART;TZID=UTC:20260816T110000
DTEND;TZID=UTC:20260816T110000
DTSTAMP:20260424T213115
CREATED:20260128T031821Z
LAST-MODIFIED:20260128T031821Z
UID:10005128-1786878000-1786878000@nwc.org
SUMMARY:11:00am Worship Service
DESCRIPTION:
URL:https://nwc.org/event/1100am-worship-service-29/
CATEGORIES:Worship
END:VEVENT
BEGIN:VEVENT
DTSTART;TZID=UTC:20260823T090000
DTEND;TZID=UTC:20260823T090000
DTSTAMP:20260424T213115
CREATED:20260128T031549Z
LAST-MODIFIED:20260128T031549Z
UID:10005077-1787475600-1787475600@nwc.org
SUMMARY:9:00am Worship Service
DESCRIPTION:
URL:https://nwc.org/event/900am-worship-service-30/
CATEGORIES:Worship
END:VEVENT
BEGIN:VEVENT
DTSTART;TZID=UTC:20260823T110000
DTEND;TZID=UTC:20260823T110000
DTSTAMP:20260424T213115
CREATED:20260128T031821Z
LAST-MODIFIED:20260128T031821Z
UID:10005129-1787482800-1787482800@nwc.org
SUMMARY:11:00am Worship Service
DESCRIPTION:
URL:https://nwc.org/event/1100am-worship-service-30/
CATEGORIES:Worship
END:VEVENT
BEGIN:VEVENT
DTSTART;TZID=UTC:20260830T090000
DTEND;TZID=UTC:20260830T090000
DTSTAMP:20260424T213115
CREATED:20260128T031551Z
LAST-MODIFIED:20260128T031551Z
UID:10005078-1788080400-1788080400@nwc.org
SUMMARY:9:00am Worship Service
DESCRIPTION:
URL:https://nwc.org/event/900am-worship-service-31/
CATEGORIES:Worship
END:VEVENT
BEGIN:VEVENT
DTSTART;TZID=UTC:20260830T110000
DTEND;TZID=UTC:20260830T110000
DTSTAMP:20260424T213115
CREATED:20260128T031822Z
LAST-MODIFIED:20260128T031822Z
UID:10005130-1788087600-1788087600@nwc.org
SUMMARY:11:00am Worship Service
DESCRIPTION:
URL:https://nwc.org/event/1100am-worship-service-31/
CATEGORIES:Worship
END:VEVENT
BEGIN:VEVENT
DTSTART;TZID=UTC:20260906T090000
DTEND;TZID=UTC:20260906T090000
DTSTAMP:20260424T213115
CREATED:20260128T031552Z
LAST-MODIFIED:20260128T031552Z
UID:10005079-1788685200-1788685200@nwc.org
SUMMARY:9:00am Worship Service
DESCRIPTION:
URL:https://nwc.org/event/900am-worship-service-32/
CATEGORIES:Worship
END:VEVENT
BEGIN:VEVENT
DTSTART;TZID=UTC:20260906T110000
DTEND;TZID=UTC:20260906T110000
DTSTAMP:20260424T213115
CREATED:20260128T031822Z
LAST-MODIFIED:20260128T031822Z
UID:10005131-1788692400-1788692400@nwc.org
SUMMARY:11:00am Worship Service
DESCRIPTION:
URL:https://nwc.org/event/1100am-worship-service-32/
CATEGORIES:Worship
END:VEVENT
END:VCALENDAR