BEGIN:VCALENDAR
VERSION:2.0
PRODID:-//Northwest Church - ECPv6.15.20//NONSGML v1.0//EN
CALSCALE:GREGORIAN
METHOD:PUBLISH
X-ORIGINAL-URL:https://nwc.org
X-WR-CALDESC:Events for Northwest Church
REFRESH-INTERVAL;VALUE=DURATION:PT1H
X-Robots-Tag:noindex
X-PUBLISHED-TTL:PT1H
BEGIN:VTIMEZONE
TZID:UTC
BEGIN:STANDARD
TZOFFSETFROM:+0000
TZOFFSETTO:+0000
TZNAME:UTC
DTSTART:20250101T000000
END:STANDARD
END:VTIMEZONE
BEGIN:VEVENT
DTSTART;TZID=UTC:20261101T090000
DTEND;TZID=UTC:20261101T090000
DTSTAMP:20260425T040217
CREATED:20260128T031619Z
LAST-MODIFIED:20260128T031619Z
UID:10005087-1793523600-1793523600@nwc.org
SUMMARY:9:00am Worship Service
DESCRIPTION:
URL:https://nwc.org/event/900am-worship-service-40/
CATEGORIES:Worship
END:VEVENT
BEGIN:VEVENT
DTSTART;TZID=UTC:20261101T110000
DTEND;TZID=UTC:20261101T110000
DTSTAMP:20260425T040217
CREATED:20260128T031852Z
LAST-MODIFIED:20260128T031852Z
UID:10005139-1793530800-1793530800@nwc.org
SUMMARY:11:00am Worship Service
DESCRIPTION:
URL:https://nwc.org/event/1100am-worship-service-40/
CATEGORIES:Worship
END:VEVENT
BEGIN:VEVENT
DTSTART;TZID=UTC:20261104T183000
DTEND;TZID=UTC:20261104T183000
DTSTAMP:20260425T040217
CREATED:20260127T191701Z
LAST-MODIFIED:20260128T032716Z
UID:10004998-1793817000-1793817000@nwc.org
SUMMARY:Worship Night
DESCRIPTION:
URL:https://nwc.org/event/worship-night-10/
LOCATION:Northwest Church\, 5415 N West Ave\, Fresno\, California\, 92711\, United States
CATEGORIES:Worship
END:VEVENT
BEGIN:VEVENT
DTSTART;TZID=UTC:20261108T090000
DTEND;TZID=UTC:20261108T090000
DTSTAMP:20260425T040217
CREATED:20260128T031621Z
LAST-MODIFIED:20260128T031621Z
UID:10005088-1794128400-1794128400@nwc.org
SUMMARY:9:00am Worship Service
DESCRIPTION:
URL:https://nwc.org/event/900am-worship-service-41/
CATEGORIES:Worship
END:VEVENT
BEGIN:VEVENT
DTSTART;TZID=UTC:20261108T110000
DTEND;TZID=UTC:20261108T110000
DTSTAMP:20260425T040217
CREATED:20260128T031852Z
LAST-MODIFIED:20260128T031852Z
UID:10005140-1794135600-1794135600@nwc.org
SUMMARY:11:00am Worship Service
DESCRIPTION:
URL:https://nwc.org/event/1100am-worship-service-41/
CATEGORIES:Worship
END:VEVENT
BEGIN:VEVENT
DTSTART;TZID=UTC:20261115T090000
DTEND;TZID=UTC:20261115T090000
DTSTAMP:20260425T040217
CREATED:20260128T031621Z
LAST-MODIFIED:20260128T031621Z
UID:10005089-1794733200-1794733200@nwc.org
SUMMARY:9:00am Worship Service
DESCRIPTION:
URL:https://nwc.org/event/900am-worship-service-42/
CATEGORIES:Worship
END:VEVENT
BEGIN:VEVENT
DTSTART;TZID=UTC:20261115T110000
DTEND;TZID=UTC:20261115T110000
DTSTAMP:20260425T040217
CREATED:20260128T031852Z
LAST-MODIFIED:20260128T031852Z
UID:10005141-1794740400-1794740400@nwc.org
SUMMARY:11:00am Worship Service
DESCRIPTION:
URL:https://nwc.org/event/1100am-worship-service-42/
CATEGORIES:Worship
END:VEVENT
BEGIN:VEVENT
DTSTART;TZID=UTC:20261122T090000
DTEND;TZID=UTC:20261122T090000
DTSTAMP:20260425T040217
CREATED:20260128T031622Z
LAST-MODIFIED:20260128T031622Z
UID:10005090-1795338000-1795338000@nwc.org
SUMMARY:9:00am Worship Service
DESCRIPTION:
URL:https://nwc.org/event/900am-worship-service-43/
CATEGORIES:Worship
END:VEVENT
BEGIN:VEVENT
DTSTART;TZID=UTC:20261122T110000
DTEND;TZID=UTC:20261122T110000
DTSTAMP:20260425T040217
CREATED:20260128T031856Z
LAST-MODIFIED:20260128T031856Z
UID:10005142-1795345200-1795345200@nwc.org
SUMMARY:11:00am Worship Service
DESCRIPTION:
URL:https://nwc.org/event/1100am-worship-service-43/
CATEGORIES:Worship
END:VEVENT
BEGIN:VEVENT
DTSTART;TZID=UTC:20261129T090000
DTEND;TZID=UTC:20261129T090000
DTSTAMP:20260425T040217
CREATED:20260128T031622Z
LAST-MODIFIED:20260128T031622Z
UID:10005091-1795942800-1795942800@nwc.org
SUMMARY:9:00am Worship Service
DESCRIPTION:
URL:https://nwc.org/event/900am-worship-service-44/
CATEGORIES:Worship
END:VEVENT
BEGIN:VEVENT
DTSTART;TZID=UTC:20261129T110000
DTEND;TZID=UTC:20261129T110000
DTSTAMP:20260425T040217
CREATED:20260128T031858Z
LAST-MODIFIED:20260128T031858Z
UID:10005143-1795950000-1795950000@nwc.org
SUMMARY:11:00am Worship Service
DESCRIPTION:
URL:https://nwc.org/event/1100am-worship-service-44/
CATEGORIES:Worship
END:VEVENT
END:VCALENDAR