BEGIN:VCALENDAR
VERSION:2.0
PRODID:-//Northwest Church - ECPv6.15.20//NONSGML v1.0//EN
CALSCALE:GREGORIAN
METHOD:PUBLISH
X-WR-CALNAME:Northwest Church
X-ORIGINAL-URL:https://nwc.org
X-WR-CALDESC:Events for Northwest Church
REFRESH-INTERVAL;VALUE=DURATION:PT1H
X-Robots-Tag:noindex
X-PUBLISHED-TTL:PT1H
BEGIN:VTIMEZONE
TZID:UTC
BEGIN:STANDARD
TZOFFSETFROM:+0000
TZOFFSETTO:+0000
TZNAME:UTC
DTSTART:20250101T000000
END:STANDARD
END:VTIMEZONE
BEGIN:VEVENT
DTSTART;TZID=UTC:20260906T090000
DTEND;TZID=UTC:20260906T090000
DTSTAMP:20260425T012810
CREATED:20260128T031552Z
LAST-MODIFIED:20260128T031552Z
UID:10005079-1788685200-1788685200@nwc.org
SUMMARY:9:00am Worship Service
DESCRIPTION:
URL:https://nwc.org/event/900am-worship-service-32/
CATEGORIES:Worship
END:VEVENT
BEGIN:VEVENT
DTSTART;TZID=UTC:20260906T110000
DTEND;TZID=UTC:20260906T110000
DTSTAMP:20260425T012810
CREATED:20260128T031822Z
LAST-MODIFIED:20260128T031822Z
UID:10005131-1788692400-1788692400@nwc.org
SUMMARY:11:00am Worship Service
DESCRIPTION:
URL:https://nwc.org/event/1100am-worship-service-32/
CATEGORIES:Worship
END:VEVENT
BEGIN:VEVENT
DTSTART;TZID=UTC:20260913T090000
DTEND;TZID=UTC:20260913T090000
DTSTAMP:20260425T012810
CREATED:20260128T031552Z
LAST-MODIFIED:20260128T031552Z
UID:10005080-1789290000-1789290000@nwc.org
SUMMARY:9:00am Worship Service
DESCRIPTION:
URL:https://nwc.org/event/900am-worship-service-33/
CATEGORIES:Worship
END:VEVENT
BEGIN:VEVENT
DTSTART;TZID=UTC:20260913T110000
DTEND;TZID=UTC:20260913T110000
DTSTAMP:20260425T012810
CREATED:20260128T031834Z
LAST-MODIFIED:20260128T031834Z
UID:10005132-1789297200-1789297200@nwc.org
SUMMARY:11:00am Worship Service
DESCRIPTION:
URL:https://nwc.org/event/1100am-worship-service-33/
CATEGORIES:Worship
END:VEVENT
BEGIN:VEVENT
DTSTART;TZID=UTC:20260920T090000
DTEND;TZID=UTC:20260920T090000
DTSTAMP:20260425T012810
CREATED:20260128T031552Z
LAST-MODIFIED:20260128T031552Z
UID:10005081-1789894800-1789894800@nwc.org
SUMMARY:9:00am Worship Service
DESCRIPTION:
URL:https://nwc.org/event/900am-worship-service-34/
CATEGORIES:Worship
END:VEVENT
BEGIN:VEVENT
DTSTART;TZID=UTC:20260920T110000
DTEND;TZID=UTC:20260920T110000
DTSTAMP:20260425T012810
CREATED:20260128T031836Z
LAST-MODIFIED:20260128T031836Z
UID:10005133-1789902000-1789902000@nwc.org
SUMMARY:11:00am Worship Service
DESCRIPTION:
URL:https://nwc.org/event/1100am-worship-service-34/
CATEGORIES:Worship
END:VEVENT
BEGIN:VEVENT
DTSTART;TZID=UTC:20260927T090000
DTEND;TZID=UTC:20260927T090000
DTSTAMP:20260425T012810
CREATED:20260128T031604Z
LAST-MODIFIED:20260128T031604Z
UID:10005082-1790499600-1790499600@nwc.org
SUMMARY:9:00am Worship Service
DESCRIPTION:
URL:https://nwc.org/event/900am-worship-service-35/
CATEGORIES:Worship
END:VEVENT
BEGIN:VEVENT
DTSTART;TZID=UTC:20260927T110000
DTEND;TZID=UTC:20260927T110000
DTSTAMP:20260425T012810
CREATED:20260128T031836Z
LAST-MODIFIED:20260128T031836Z
UID:10005134-1790506800-1790506800@nwc.org
SUMMARY:11:00am Worship Service
DESCRIPTION:
URL:https://nwc.org/event/1100am-worship-service-35/
CATEGORIES:Worship
END:VEVENT
END:VCALENDAR