BEGIN:VCALENDAR
VERSION:2.0
PRODID:-//Northwest Church - ECPv6.15.20//NONSGML v1.0//EN
CALSCALE:GREGORIAN
METHOD:PUBLISH
X-ORIGINAL-URL:https://nwc.org
X-WR-CALDESC:Events for Northwest Church
REFRESH-INTERVAL;VALUE=DURATION:PT1H
X-Robots-Tag:noindex
X-PUBLISHED-TTL:PT1H
BEGIN:VTIMEZONE
TZID:UTC
BEGIN:STANDARD
TZOFFSETFROM:+0000
TZOFFSETTO:+0000
TZNAME:UTC
DTSTART:20250101T000000
END:STANDARD
END:VTIMEZONE
BEGIN:VEVENT
DTSTART;TZID=UTC:20260428T180000
DTEND;TZID=UTC:20260428T180000
DTSTAMP:20260424T202330
CREATED:20260127T185801Z
LAST-MODIFIED:20260128T032340Z
UID:10004874-1777399200-1777399200@nwc.org
SUMMARY:Men's Monthly Gathering
DESCRIPTION:
URL:https://nwc.org/event/mens-monthly-gathering-16/
LOCATION:Northwest Church\, 5415 N West Ave\, Fresno\, California\, 92711\, United States
CATEGORIES:Men
END:VEVENT
BEGIN:VEVENT
DTSTART;TZID=UTC:20260526T180000
DTEND;TZID=UTC:20260526T180000
DTSTAMP:20260424T202330
CREATED:20260127T185939Z
LAST-MODIFIED:20260128T032341Z
UID:10004893-1779818400-1779818400@nwc.org
SUMMARY:Men's Monthly Gathering
DESCRIPTION:
URL:https://nwc.org/event/mens-monthly-gathering-17/
LOCATION:Northwest Church\, 5415 N West Ave\, Fresno\, California\, 92711\, United States
CATEGORIES:Men
END:VEVENT
BEGIN:VEVENT
DTSTART;TZID=UTC:20260630T180000
DTEND;TZID=UTC:20260630T180000
DTSTAMP:20260424T202330
CREATED:20260127T190115Z
LAST-MODIFIED:20260128T032341Z
UID:10004914-1782842400-1782842400@nwc.org
SUMMARY:Men's Monthly Gathering
DESCRIPTION:
URL:https://nwc.org/event/mens-monthly-gathering-18/
LOCATION:Northwest Church\, 5415 N West Ave\, Fresno\, California\, 92711\, United States
CATEGORIES:Men
END:VEVENT
BEGIN:VEVENT
DTSTART;TZID=UTC:20260728T180000
DTEND;TZID=UTC:20260728T180000
DTSTAMP:20260424T202330
CREATED:20260127T190228Z
LAST-MODIFIED:20260128T032342Z
UID:10004933-1785261600-1785261600@nwc.org
SUMMARY:Men's Monthly Gathering
DESCRIPTION:
URL:https://nwc.org/event/mens-monthly-gathering-19/
LOCATION:Northwest Church\, 5415 N West Ave\, Fresno\, California\, 92711\, United States
CATEGORIES:Men
END:VEVENT
BEGIN:VEVENT
DTSTART;TZID=UTC:20260825T180000
DTEND;TZID=UTC:20260825T180000
DTSTAMP:20260424T202330
CREATED:20260127T190335Z
LAST-MODIFIED:20260128T032345Z
UID:10004952-1787680800-1787680800@nwc.org
SUMMARY:Men's Monthly Gathering
DESCRIPTION:
URL:https://nwc.org/event/mens-monthly-gathering-20/
LOCATION:Northwest Church\, 5415 N West Ave\, Fresno\, California\, 92711\, United States
CATEGORIES:Men
END:VEVENT
BEGIN:VEVENT
DTSTART;TZID=UTC:20260929T180000
DTEND;TZID=UTC:20260929T180000
DTSTAMP:20260424T202330
CREATED:20260127T190612Z
LAST-MODIFIED:20260128T032347Z
UID:10004975-1790704800-1790704800@nwc.org
SUMMARY:Men's Monthly Gathering
DESCRIPTION:
URL:https://nwc.org/event/mens-monthly-gathering-21/
LOCATION:Northwest Church\, 5415 N West Ave\, Fresno\, California\, 92711\, United States
CATEGORIES:Men
END:VEVENT
BEGIN:VEVENT
DTSTART;TZID=UTC:20261027T180000
DTEND;TZID=UTC:20261027T180000
DTSTAMP:20260424T202330
CREATED:20260127T191042Z
LAST-MODIFIED:20260128T032348Z
UID:10004992-1793124000-1793124000@nwc.org
SUMMARY:Men's Monthly Gathering
DESCRIPTION:
URL:https://nwc.org/event/mens-monthly-gathering-22/
LOCATION:Northwest Church\, 5415 N West Ave\, Fresno\, California\, 92711\, United States
CATEGORIES:Men
END:VEVENT
END:VCALENDAR