BEGIN:VCALENDAR
VERSION:2.0
PRODID:-//Northwest Church - ECPv6.15.20//NONSGML v1.0//EN
CALSCALE:GREGORIAN
METHOD:PUBLISH
X-WR-CALNAME:Northwest Church
X-ORIGINAL-URL:https://nwc.org
X-WR-CALDESC:Events for Northwest Church
REFRESH-INTERVAL;VALUE=DURATION:PT1H
X-Robots-Tag:noindex
X-PUBLISHED-TTL:PT1H
BEGIN:VTIMEZONE
TZID:UTC
BEGIN:STANDARD
TZOFFSETFROM:+0000
TZOFFSETTO:+0000
TZNAME:UTC
DTSTART:20250101T000000
END:STANDARD
END:VTIMEZONE
BEGIN:VEVENT
DTSTART;TZID=UTC:20261004T103000
DTEND;TZID=UTC:20261004T103000
DTSTAMP:20260425T024136
CREATED:20240909T181926Z
LAST-MODIFIED:20260128T032653Z
UID:10002271-1791109800-1791109800@nwc.org
SUMMARY:The Word Class
DESCRIPTION:
URL:https://nwc.org/event/the-word-class-145/
LOCATION:Northwest Church\, 5415 N West Ave\, Fresno\, California\, 92711\, United States
CATEGORIES:Life Groups
END:VEVENT
BEGIN:VEVENT
DTSTART;TZID=UTC:20261011T103000
DTEND;TZID=UTC:20261011T103000
DTSTAMP:20260425T024136
CREATED:20240909T181943Z
LAST-MODIFIED:20260128T032653Z
UID:10002273-1791714600-1791714600@nwc.org
SUMMARY:The Word Class
DESCRIPTION:
URL:https://nwc.org/event/the-word-class-146/
LOCATION:Northwest Church\, 5415 N West Ave\, Fresno\, California\, 92711\, United States
CATEGORIES:Life Groups
END:VEVENT
BEGIN:VEVENT
DTSTART;TZID=UTC:20261018T103000
DTEND;TZID=UTC:20261018T103000
DTSTAMP:20260425T024136
CREATED:20240909T182002Z
LAST-MODIFIED:20260128T032655Z
UID:10002275-1792319400-1792319400@nwc.org
SUMMARY:The Word Class
DESCRIPTION:
URL:https://nwc.org/event/the-word-class-147/
LOCATION:Northwest Church\, 5415 N West Ave\, Fresno\, California\, 92711\, United States
CATEGORIES:Life Groups
END:VEVENT
BEGIN:VEVENT
DTSTART;TZID=UTC:20261025T103000
DTEND;TZID=UTC:20261025T103000
DTSTAMP:20260425T024136
CREATED:20240909T182025Z
LAST-MODIFIED:20260128T032658Z
UID:10002277-1792924200-1792924200@nwc.org
SUMMARY:The Word Class
DESCRIPTION:
URL:https://nwc.org/event/the-word-class-148/
LOCATION:Northwest Church\, 5415 N West Ave\, Fresno\, California\, 92711\, United States
CATEGORIES:Life Groups
END:VEVENT
END:VCALENDAR