BEGIN:VCALENDAR
VERSION:2.0
PRODID:-//Northwest Church - ECPv6.15.20//NONSGML v1.0//EN
CALSCALE:GREGORIAN
METHOD:PUBLISH
X-ORIGINAL-URL:https://nwc.org
X-WR-CALDESC:Events for Northwest Church
REFRESH-INTERVAL;VALUE=DURATION:PT1H
X-Robots-Tag:noindex
X-PUBLISHED-TTL:PT1H
BEGIN:VTIMEZONE
TZID:UTC
BEGIN:STANDARD
TZOFFSETFROM:+0000
TZOFFSETTO:+0000
TZNAME:UTC
DTSTART:20250101T000000
END:STANDARD
END:VTIMEZONE
BEGIN:VEVENT
DTSTART;TZID=UTC:20261227T110000
DTEND;TZID=UTC:20261227T110000
DTSTAMP:20260425T161429
CREATED:20260127T192044Z
LAST-MODIFIED:20260128T032535Z
UID:10005030-1798369200-1798369200@nwc.org
SUMMARY:Students Ministry Youth Service
DESCRIPTION:
URL:https://nwc.org/event/students-ministry-youth-service-48/
LOCATION:Northwest Church\, 5415 N West Ave\, Fresno\, California\, 92711\, United States
CATEGORIES:High School
END:VEVENT
BEGIN:VEVENT
DTSTART;TZID=UTC:20261230T180000
DTEND;TZID=UTC:20261230T180000
DTSTAMP:20260425T161429
CREATED:20260127T192051Z
LAST-MODIFIED:20260128T032937Z
UID:10005031-1798653600-1798653600@nwc.org
SUMMARY:Youth Wednesday Service
DESCRIPTION:
URL:https://nwc.org/event/youth-wednesday-service-49/
LOCATION:Northwest Church\, 5415 N West Ave\, Fresno\, California\, 92711\, United States
CATEGORIES:High School
END:VEVENT
BEGIN:VEVENT
DTSTART;TZID=UTC:20270103T110000
DTEND;TZID=UTC:20270103T110000
DTSTAMP:20260425T161429
CREATED:20260127T192240Z
LAST-MODIFIED:20260128T032535Z
UID:10005034-1798974000-1798974000@nwc.org
SUMMARY:Students Ministry Youth Service
DESCRIPTION:
URL:https://nwc.org/event/students-ministry-youth-service-49/
LOCATION:Northwest Church\, 5415 N West Ave\, Fresno\, California\, 92711\, United States
CATEGORIES:High School
END:VEVENT
BEGIN:VEVENT
DTSTART;TZID=UTC:20270106T180000
DTEND;TZID=UTC:20270106T180000
DTSTAMP:20260425T161429
CREATED:20260127T192243Z
LAST-MODIFIED:20260128T032937Z
UID:10005035-1799258400-1799258400@nwc.org
SUMMARY:Youth Wednesday Service
DESCRIPTION:
URL:https://nwc.org/event/youth-wednesday-service-50/
LOCATION:Northwest Church\, 5415 N West Ave\, Fresno\, California\, 92711\, United States
CATEGORIES:High School
END:VEVENT
BEGIN:VEVENT
DTSTART;TZID=UTC:20270110T110000
DTEND;TZID=UTC:20270110T110000
DTSTAMP:20260425T161429
CREATED:20260127T192254Z
LAST-MODIFIED:20260128T032543Z
UID:10005038-1799578800-1799578800@nwc.org
SUMMARY:Students Ministry Youth Service
DESCRIPTION:
URL:https://nwc.org/event/students-ministry-youth-service-50/
LOCATION:Northwest Church\, 5415 N West Ave\, Fresno\, California\, 92711\, United States
CATEGORIES:High School
END:VEVENT
BEGIN:VEVENT
DTSTART;TZID=UTC:20270113T180000
DTEND;TZID=UTC:20270113T180000
DTSTAMP:20260425T161429
CREATED:20260127T192255Z
LAST-MODIFIED:20260128T032938Z
UID:10005039-1799863200-1799863200@nwc.org
SUMMARY:Youth Wednesday Service
DESCRIPTION:
URL:https://nwc.org/event/youth-wednesday-service-51/
LOCATION:Northwest Church\, 5415 N West Ave\, Fresno\, California\, 92711\, United States
CATEGORIES:High School
END:VEVENT
BEGIN:VEVENT
DTSTART;TZID=UTC:20270117T110000
DTEND;TZID=UTC:20270117T110000
DTSTAMP:20260425T161429
CREATED:20260127T192444Z
LAST-MODIFIED:20260128T032545Z
UID:10005042-1800183600-1800183600@nwc.org
SUMMARY:Students Ministry Youth Service
DESCRIPTION:
URL:https://nwc.org/event/students-ministry-youth-service-51/
LOCATION:Northwest Church\, 5415 N West Ave\, Fresno\, California\, 92711\, United States
CATEGORIES:High School
END:VEVENT
BEGIN:VEVENT
DTSTART;TZID=UTC:20270120T180000
DTEND;TZID=UTC:20270120T180000
DTSTAMP:20260425T161429
CREATED:20260127T192444Z
LAST-MODIFIED:20260128T032939Z
UID:10005043-1800468000-1800468000@nwc.org
SUMMARY:Youth Wednesday Service
DESCRIPTION:
URL:https://nwc.org/event/youth-wednesday-service-52/
LOCATION:Northwest Church\, 5415 N West Ave\, Fresno\, California\, 92711\, United States
CATEGORIES:High School
END:VEVENT
BEGIN:VEVENT
DTSTART;TZID=UTC:20270124T110000
DTEND;TZID=UTC:20270124T110000
DTSTAMP:20260425T161429
CREATED:20260127T192457Z
LAST-MODIFIED:20260128T032546Z
UID:10005046-1800788400-1800788400@nwc.org
SUMMARY:Students Ministry Youth Service
DESCRIPTION:
URL:https://nwc.org/event/students-ministry-youth-service-52/
LOCATION:Northwest Church\, 5415 N West Ave\, Fresno\, California\, 92711\, United States
CATEGORIES:High School
END:VEVENT
BEGIN:VEVENT
DTSTART;TZID=UTC:20270127T180000
DTEND;TZID=UTC:20270127T180000
DTSTAMP:20260425T161429
CREATED:20260127T192457Z
LAST-MODIFIED:20260128T032941Z
UID:10005047-1801072800-1801072800@nwc.org
SUMMARY:Youth Wednesday Service
DESCRIPTION:
URL:https://nwc.org/event/youth-wednesday-service-53/
LOCATION:Northwest Church\, 5415 N West Ave\, Fresno\, California\, 92711\, United States
CATEGORIES:High School
END:VEVENT
END:VCALENDAR