BEGIN:VCALENDAR
VERSION:2.0
PRODID:-//Northwest Church - ECPv6.15.20//NONSGML v1.0//EN
CALSCALE:GREGORIAN
METHOD:PUBLISH
X-WR-CALNAME:Northwest Church
X-ORIGINAL-URL:https://nwc.org
X-WR-CALDESC:Events for Northwest Church
REFRESH-INTERVAL;VALUE=DURATION:PT1H
X-Robots-Tag:noindex
X-PUBLISHED-TTL:PT1H
BEGIN:VTIMEZONE
TZID:UTC
BEGIN:STANDARD
TZOFFSETFROM:+0000
TZOFFSETTO:+0000
TZNAME:UTC
DTSTART:20250101T000000
END:STANDARD
END:VTIMEZONE
BEGIN:VEVENT
DTSTART;TZID=UTC:20261104T180000
DTEND;TZID=UTC:20261104T180000
DTSTAMP:20260425T031648
CREATED:20260127T191659Z
LAST-MODIFIED:20260128T032923Z
UID:10004997-1793815200-1793815200@nwc.org
SUMMARY:Youth Wednesday Service
DESCRIPTION:
URL:https://nwc.org/event/youth-wednesday-service-41/
LOCATION:Northwest Church\, 5415 N West Ave\, Fresno\, California\, 92711\, United States
CATEGORIES:High School
END:VEVENT
BEGIN:VEVENT
DTSTART;TZID=UTC:20261104T183000
DTEND;TZID=UTC:20261104T183000
DTSTAMP:20260425T031648
CREATED:20260127T191701Z
LAST-MODIFIED:20260128T032716Z
UID:10004998-1793817000-1793817000@nwc.org
SUMMARY:Worship Night
DESCRIPTION:
URL:https://nwc.org/event/worship-night-10/
LOCATION:Northwest Church\, 5415 N West Ave\, Fresno\, California\, 92711\, United States
CATEGORIES:Worship
END:VEVENT
END:VCALENDAR