BEGIN:VCALENDAR
VERSION:2.0
PRODID:-//Northwest Church - ECPv6.15.20//NONSGML v1.0//EN
CALSCALE:GREGORIAN
METHOD:PUBLISH
X-ORIGINAL-URL:https://nwc.org
X-WR-CALDESC:Events for Northwest Church
REFRESH-INTERVAL;VALUE=DURATION:PT1H
X-Robots-Tag:noindex
X-PUBLISHED-TTL:PT1H
BEGIN:VTIMEZONE
TZID:UTC
BEGIN:STANDARD
TZOFFSETFROM:+0000
TZOFFSETTO:+0000
TZNAME:UTC
DTSTART:20250101T000000
END:STANDARD
END:VTIMEZONE
BEGIN:VEVENT
DTSTART;TZID=UTC:20260726T090000
DTEND;TZID=UTC:20260726T090000
DTSTAMP:20260424T214927
CREATED:20260128T031351Z
LAST-MODIFIED:20260128T031351Z
UID:10005073-1785056400-1785056400@nwc.org
SUMMARY:9:00am Worship Service
DESCRIPTION:
URL:https://nwc.org/event/900am-worship-service-26/
CATEGORIES:Worship
END:VEVENT
BEGIN:VEVENT
DTSTART;TZID=UTC:20260726T093000
DTEND;TZID=UTC:20260726T093000
DTSTAMP:20260424T214927
CREATED:20260127T190219Z
LAST-MODIFIED:20260128T032154Z
UID:10004931-1785058200-1785058200@nwc.org
SUMMARY:Encore
DESCRIPTION:
URL:https://nwc.org/event/encore-26/
LOCATION:Northwest Church\, 5415 N West Ave\, Fresno\, California\, 92711\, United States
CATEGORIES:Seniors
END:VEVENT
BEGIN:VEVENT
DTSTART;TZID=UTC:20260726T103000
DTEND;TZID=UTC:20260726T103000
DTSTAMP:20260424T214927
CREATED:20240909T181635Z
LAST-MODIFIED:20260128T032632Z
UID:10002251-1785061800-1785061800@nwc.org
SUMMARY:The Word Class
DESCRIPTION:
URL:https://nwc.org/event/the-word-class-135/
LOCATION:Northwest Church\, 5415 N West Ave\, Fresno\, California\, 92711\, United States
CATEGORIES:Life Groups
END:VEVENT
BEGIN:VEVENT
DTSTART;TZID=UTC:20260726T110000
DTEND;TZID=UTC:20260726T110000
DTSTAMP:20260424T214927
CREATED:20260127T190227Z
LAST-MODIFIED:20260128T032459Z
UID:10004932-1785063600-1785063600@nwc.org
SUMMARY:Students Ministry Youth Service
DESCRIPTION:
URL:https://nwc.org/event/students-ministry-youth-service-26/
LOCATION:Northwest Church\, 5415 N West Ave\, Fresno\, California\, 92711\, United States
CATEGORIES:High School
END:VEVENT
BEGIN:VEVENT
DTSTART;TZID=UTC:20260726T110000
DTEND;TZID=UTC:20260726T110000
DTSTAMP:20260424T214927
CREATED:20260128T031807Z
LAST-MODIFIED:20260128T031807Z
UID:10005125-1785063600-1785063600@nwc.org
SUMMARY:11:00am Worship Service
DESCRIPTION:
URL:https://nwc.org/event/1100am-worship-service-26/
CATEGORIES:Worship
END:VEVENT
END:VCALENDAR