BEGIN:VCALENDAR
VERSION:2.0
PRODID:-//Northwest Church - ECPv6.15.20//NONSGML v1.0//EN
CALSCALE:GREGORIAN
METHOD:PUBLISH
X-WR-CALNAME:Northwest Church
X-ORIGINAL-URL:https://nwc.org
X-WR-CALDESC:Events for Northwest Church
REFRESH-INTERVAL;VALUE=DURATION:PT1H
X-Robots-Tag:noindex
X-PUBLISHED-TTL:PT1H
BEGIN:VTIMEZONE
TZID:UTC
BEGIN:STANDARD
TZOFFSETFROM:+0000
TZOFFSETTO:+0000
TZNAME:UTC
DTSTART:20250101T000000
END:STANDARD
END:VTIMEZONE
BEGIN:VEVENT
DTSTART;TZID=UTC:20260628T090000
DTEND;TZID=UTC:20260628T090000
DTSTAMP:20260424T203606
CREATED:20260128T031151Z
LAST-MODIFIED:20260128T031151Z
UID:10005069-1782637200-1782637200@nwc.org
SUMMARY:9:00am Worship Service
DESCRIPTION:
URL:https://nwc.org/event/900am-worship-service-22/
CATEGORIES:Worship
END:VEVENT
BEGIN:VEVENT
DTSTART;TZID=UTC:20260628T093000
DTEND;TZID=UTC:20260628T093000
DTSTAMP:20260424T203606
CREATED:20260127T190108Z
LAST-MODIFIED:20260128T032004Z
UID:10004912-1782639000-1782639000@nwc.org
SUMMARY:Encore
DESCRIPTION:
URL:https://nwc.org/event/encore-22/
LOCATION:Northwest Church\, 5415 N West Ave\, Fresno\, California\, 92711\, United States
CATEGORIES:Seniors
END:VEVENT
BEGIN:VEVENT
DTSTART;TZID=UTC:20260628T103000
DTEND;TZID=UTC:20260628T103000
DTSTAMP:20260424T203606
CREATED:20240909T180911Z
LAST-MODIFIED:20260128T032626Z
UID:10002243-1782642600-1782642600@nwc.org
SUMMARY:The Word Class
DESCRIPTION:
URL:https://nwc.org/event/the-word-class-131/
LOCATION:Northwest Church\, 5415 N West Ave\, Fresno\, California\, 92711\, United States
CATEGORIES:Life Groups
END:VEVENT
BEGIN:VEVENT
DTSTART;TZID=UTC:20260628T110000
DTEND;TZID=UTC:20260628T110000
DTSTAMP:20260424T203606
CREATED:20260127T190109Z
LAST-MODIFIED:20260128T032446Z
UID:10004913-1782644400-1782644400@nwc.org
SUMMARY:Students Ministry Youth Service
DESCRIPTION:
URL:https://nwc.org/event/students-ministry-youth-service-22/
LOCATION:Northwest Church\, 5415 N West Ave\, Fresno\, California\, 92711\, United States
CATEGORIES:High School
END:VEVENT
BEGIN:VEVENT
DTSTART;TZID=UTC:20260628T110000
DTEND;TZID=UTC:20260628T110000
DTSTAMP:20260424T203606
CREATED:20260128T031752Z
LAST-MODIFIED:20260128T031752Z
UID:10005121-1782644400-1782644400@nwc.org
SUMMARY:11:00am Worship Service
DESCRIPTION:
URL:https://nwc.org/event/1100am-worship-service-22/
CATEGORIES:Worship
END:VEVENT
END:VCALENDAR