BEGIN:VCALENDAR
VERSION:2.0
PRODID:-//Northwest Church - ECPv6.15.20//NONSGML v1.0//EN
CALSCALE:GREGORIAN
METHOD:PUBLISH
X-ORIGINAL-URL:https://nwc.org
X-WR-CALDESC:Events for Northwest Church
REFRESH-INTERVAL;VALUE=DURATION:PT1H
X-Robots-Tag:noindex
X-PUBLISHED-TTL:PT1H
BEGIN:VTIMEZONE
TZID:UTC
BEGIN:STANDARD
TZOFFSETFROM:+0000
TZOFFSETTO:+0000
TZNAME:UTC
DTSTART:20250101T000000
END:STANDARD
END:VTIMEZONE
BEGIN:VEVENT
DTSTART;TZID=UTC:20260511T180000
DTEND;TZID=UTC:20260511T200000
DTSTAMP:20260424T192104
CREATED:20260128T034723Z
LAST-MODIFIED:20260128T035306Z
UID:10005193-1778522400-1778529600@nwc.org
SUMMARY:Grief Share
DESCRIPTION:
URL:https://nwc.org/event/grief-share-16/2026-05-11/
END:VEVENT
END:VCALENDAR