BEGIN:VCALENDAR
VERSION:2.0
PRODID:-//Northwest Church - ECPv6.15.20//NONSGML v1.0//EN
CALSCALE:GREGORIAN
METHOD:PUBLISH
X-WR-CALNAME:Northwest Church
X-ORIGINAL-URL:https://nwc.org
X-WR-CALDESC:Events for Northwest Church
REFRESH-INTERVAL;VALUE=DURATION:PT1H
X-Robots-Tag:noindex
X-PUBLISHED-TTL:PT1H
BEGIN:VTIMEZONE
TZID:UTC
BEGIN:STANDARD
TZOFFSETFROM:+0000
TZOFFSETTO:+0000
TZNAME:UTC
DTSTART:20250101T000000
END:STANDARD
END:VTIMEZONE
BEGIN:VEVENT
DTSTART;TZID=UTC:20260405T090000
DTEND;TZID=UTC:20260405T090000
DTSTAMP:20260424T180335
CREATED:20260128T031134Z
LAST-MODIFIED:20260128T031134Z
UID:10005057-1775379600-1775379600@nwc.org
SUMMARY:9:00am Worship Service
DESCRIPTION:
URL:https://nwc.org/event/900am-worship-service-10/
CATEGORIES:Worship
END:VEVENT
BEGIN:VEVENT
DTSTART;TZID=UTC:20260405T093000
DTEND;TZID=UTC:20260405T093000
DTSTAMP:20260424T180335
CREATED:20260127T185646Z
LAST-MODIFIED:20260128T031943Z
UID:10004860-1775381400-1775381400@nwc.org
SUMMARY:Encore
DESCRIPTION:
URL:https://nwc.org/event/encore-10/
LOCATION:Northwest Church\, 5415 N West Ave\, Fresno\, California\, 92711\, United States
CATEGORIES:Seniors
END:VEVENT
BEGIN:VEVENT
DTSTART;TZID=UTC:20260405T103000
DTEND;TZID=UTC:20260405T103000
DTSTAMP:20260424T180335
CREATED:20240506T203933Z
LAST-MODIFIED:20260128T032607Z
UID:10000428-1775385000-1775385000@nwc.org
SUMMARY:The Word Class
DESCRIPTION:
URL:https://nwc.org/event/the-word-class-119/
LOCATION:Northwest Church\, 5415 N West Ave\, Fresno\, California\, 92711\, United States
CATEGORIES:Life Groups
END:VEVENT
BEGIN:VEVENT
DTSTART;TZID=UTC:20260405T110000
DTEND;TZID=UTC:20260405T110000
DTSTAMP:20260424T180335
CREATED:20260127T185647Z
LAST-MODIFIED:20260128T032424Z
UID:10004861-1775386800-1775386800@nwc.org
SUMMARY:Students Ministry Youth Service
DESCRIPTION:
URL:https://nwc.org/event/students-ministry-youth-service-10/
LOCATION:Northwest Church\, 5415 N West Ave\, Fresno\, California\, 92711\, United States
CATEGORIES:High School
END:VEVENT
BEGIN:VEVENT
DTSTART;TZID=UTC:20260405T110000
DTEND;TZID=UTC:20260405T110000
DTSTAMP:20260424T180335
CREATED:20260128T031721Z
LAST-MODIFIED:20260128T031721Z
UID:10005109-1775386800-1775386800@nwc.org
SUMMARY:11:00am Worship Service
DESCRIPTION:
URL:https://nwc.org/event/1100am-worship-service-10/
CATEGORIES:Worship
END:VEVENT
END:VCALENDAR